BEGIN:VCALENDAR
PRODID:NingEventWidget-v1
VERSION:2.0
METHOD:PUBLISH
BEGIN:VTIMEZONE
TZID:America/Chicago
X-LIC-LOCATION:America/Chicago
BEGIN:DAYLIGHT
TZOFFSETFROM:-0600
TZOFFSETTO:-0500
TZNAME:CDT
DTSTART:19700308T020000
RRULE:FREQ=YEARLY;BYMONTH=3;BYDAY=2SU
END:DAYLIGHT
BEGIN:STANDARD
TZOFFSETFROM:-0500
TZOFFSETTO:-0600
TZNAME:CST
DTSTART:19701101T020000
RRULE:FREQ=YEARLY;BYMONTH=11;BYDAY=1SU
END:STANDARD
END:VTIMEZONE
BEGIN:VEVENT
UID:3181080:Event:526556
DTSTAMP:20260424T231010Z
SUMMARY:Premier Gun Shows in Houston Tx
DESCRIPTION: \nVisit the Houston Gun Show at George R. Brown with ove
 r 700 tables of tables with guns, ammo, knives, shooting supplies and 
 militaria we have what you are looking for! Public Invited to Buy, Sel
 l, or Trade.\n\nFor more information visit https://iknifecollector.com
 /events/premier-gun-shows
DTSTART;TZID=America/Chicago:20120107T090000
DTEND;TZID=America/Chicago:20120108T170000
CATEGORIES:gun, and, knife, show
LOCATION:G.R. Brown Convention Center
WEBSITE:http://houstonareagunshows.com/
URL:http://houstonareagunshows.com/
CONTACT:817)732-1194
ORGANIZER:Bruce Piehl/Doc's Knife Works
ATTACH;FMTTYPE="image/jpeg":http://storage.ning.com/topology/rest/1.0/
 file/get/2831315455?profile=original
ATTENDEE;ROLE=REQ-PARTICIPANT;PARTSTAT=ACCEPTED;RSVP=TRUE;CN="Bruce Pi
 ehl":https://iknifecollector.com/profile/brucepiehl
END:VEVENT
END:VCALENDAR
