BEGIN:VCALENDAR
PRODID:NingEventWidget-v1
VERSION:2.0
METHOD:PUBLISH
BEGIN:VTIMEZONE
TZID:America/Chicago
X-LIC-LOCATION:America/Chicago
BEGIN:DAYLIGHT
TZOFFSETFROM:-0600
TZOFFSETTO:-0500
TZNAME:CDT
DTSTART:19700308T020000
RRULE:FREQ=YEARLY;BYMONTH=3;BYDAY=2SU
END:DAYLIGHT
BEGIN:STANDARD
TZOFFSETFROM:-0500
TZOFFSETTO:-0600
TZNAME:CST
DTSTART:19701101T020000
RRULE:FREQ=YEARLY;BYMONTH=11;BYDAY=1SU
END:STANDARD
END:VTIMEZONE
BEGIN:VEVENT
UID:3181080:Event:1414105
DTSTAMP:20260424T060617Z
SUMMARY:Queen Cutlery Co. Historical Society Annual Show & Tour
DESCRIPTION:August, 11 2016Factory Tours:Â Â Â Â Â ThursdayÂ Â 8am - 2
 pm\nQueen Factory507 Chestnut St.Titusville, PA 16354August, 12-13 201
 6Show:Â Â Â Â FridayÂ Â Â Â Â Â  12noon-6pmÂ Â Â Â Â Â Â Â  Â Â Â  Â S
 aturday Â  Â  9am-4pmPleasantville Fire Hall157 W State St.Pleasantvil
 le, PA 16341Cookout & Family Reunion:Â Â Â Â FridayÂ Â Â Â  6:30pmÂ Â 
 Â  FREE with Admission Â Â Â Â Â K. Ryan DanielsÂ Â Â Â Â Â Â Â Â Â Â 
 Â Â Â Â Â Â Â Â Â Â Â Â Â Â Â Â Â Â Â Â Â Â Â Â Â Â Â Â Â Â Â Â Â Â Â 
 Â Â Â Â Â Â Â Â Â Â Â Â Â Â Â Â Â Â Â Â Â Â Â Â Â Â Â Â Â Â Â Â Â Â Â 
 Â Â Â Â Â Â (740) 418-0142Â Â Â Â Â Â Â Â Â Â Â Â Â Â Â Â Â Â Â Â Â Â 
 Â Â Â Â Â Â Â Â Â Â Â Â Â Â Â Â Â Â Â Â Â Â Â Â Â Â Â Â Â Â Â Â Â Â Â 
 Â Â Â Â Â Â Â Â Â Â Â Â Â Â Â Â Â Â Â Â Â Â Â Â Â Â Â Â Â Â Â Â Â rdan
 iels@queencutlery.comÂ Â Â Â Â Â Â Â Â Â Â Â Â Â Â Â Â Â Â Â Â Â Â Â Â
  Â Â Â Â Â Â Â Â Â Â Â Â Â Â Â Â Â Â Â Â Â Â Â Â Â Â Â Â Â Â Â Â Â Â Â
  Â Â Â Â Â Â Ashley Wright(814) 827-3673awright@queencutlery.com\n\nFo
 r more information visit https://iknifecollector.com/events/queen-cutl
 ery-co-historical-society-annual-show-tour
DTSTART;TZID=America/Chicago:20160811T180000
DTEND;TZID=America/Chicago:20160813T190000
CATEGORIES:factory, tour, and, knife, show
LOCATION:Queen Factory & Pleasentville Fire Hall
WEBSITE:http://www.queencutlery.com/Historic_Society_Show.html
URL:http://www.queencutlery.com/Historic_Society_Show.html
CONTACT:
ORGANIZER;CN="Jan Carter":https://iknifecollector.com/profile/JanCarte
 r
ATTACH;FMTTYPE="image/jpeg":http://storage.ning.com/topology/rest/1.0/
 file/get/2663669100?profile=original
ATTENDEE;ROLE=REQ-PARTICIPANT;PARTSTAT=ACCEPTED;RSVP=TRUE;CN="Charles 
 Reed":https://iknifecollector.com/profile/CharlesReed
ATTENDEE;ROLE=REQ-PARTICIPANT;PARTSTAT=ACCEPTED;RSVP=TRUE;CN="Roger Cu
 nningham":https://iknifecollector.com/profile/RogerCunningham
ATTENDEE;ROLE=REQ-PARTICIPANT;PARTSTAT=ACCEPTED;RSVP=TRUE;CN="Tracey R
 eed":https://iknifecollector.com/profile/TraceyReed
ATTENDEE;ROLE=REQ-PARTICIPANT;PARTSTAT=ACCEPTED;RSVP=TRUE;CN="Dan Lago
 ":https://iknifecollector.com/profile/DanLago
ATTENDEE;ROLE=REQ-PARTICIPANT;PARTSTAT=ACCEPTED;RSVP=TRUE;CN="Carl Bra
 dshaw":https://iknifecollector.com/profile/CarlBradshaw
ATTENDEE;ROLE=REQ-PARTICIPANT;PARTSTAT=TENTATIVE;RSVP=TRUE;CN="Dan Fit
 zgerald":https://iknifecollector.com/profile/DanFitzgerald
ATTENDEE;ROLE=REQ-PARTICIPANT;PARTSTAT=TENTATIVE;RSVP=TRUE;CN="Jan Car
 ter":https://iknifecollector.com/profile/JanCarter
END:VEVENT
END:VCALENDAR
