BEGIN:VCALENDAR
PRODID:NingEventWidget-v1
VERSION:2.0
METHOD:PUBLISH
BEGIN:VTIMEZONE
TZID:America/Chicago
X-LIC-LOCATION:America/Chicago
BEGIN:DAYLIGHT
TZOFFSETFROM:-0600
TZOFFSETTO:-0500
TZNAME:CDT
DTSTART:19700308T020000
RRULE:FREQ=YEARLY;BYMONTH=3;BYDAY=2SU
END:DAYLIGHT
BEGIN:STANDARD
TZOFFSETFROM:-0500
TZOFFSETTO:-0600
TZNAME:CST
DTSTART:19701101T020000
RRULE:FREQ=YEARLY;BYMONTH=11;BYDAY=1SU
END:STANDARD
END:VTIMEZONE
BEGIN:VEVENT
UID:3181080:Event:868531
DTSTAMP:20260423T000619Z
SUMMARY:Queen Cutlery...Ryan Guest Hosts KNIVES LIVE TV
DESCRIPTION:\n\nFor more information visit https://iknifecollector.com
 /events/queen-cutlery-ryan-guest-hosts-knives-live-tv
DTSTART;TZID=America/Chicago:20130614T210000
DTEND;TZID=America/Chicago:20130614T234500
CATEGORIES:queen, "cutlery/knives", live, event
LOCATION:iKC Chat Room
WEBSITE:http://www.smkw.com/webapp/eCommerce/tvshow.jsp?PromoCode=CK06
 0713&ProgramCode=CK060713
URL:http://www.smkw.com/webapp/eCommerce/tvshow.jsp?PromoCode=CK060713
 &ProgramCode=CK060713
CONTACT:
ORGANIZER;CN="Jan Carter":https://iknifecollector.com/profile/JanCarte
 r
ATTACH;FMTTYPE="image/jpeg":
ATTENDEE;ROLE=REQ-PARTICIPANT;PARTSTAT=ACCEPTED;RSVP=TRUE;CN="Bill Fle
 tcher":https://iknifecollector.com/profile/BillFletcher
ATTENDEE;ROLE=REQ-PARTICIPANT;PARTSTAT=ACCEPTED;RSVP=TRUE;CN="mike kan
 e":https://iknifecollector.com/profile/mikekane
ATTENDEE;ROLE=REQ-PARTICIPANT;PARTSTAT=ACCEPTED;RSVP=TRUE;CN="Billy On
 eale":https://iknifecollector.com/profile/BillyOneale
ATTENDEE;ROLE=REQ-PARTICIPANT;PARTSTAT=ACCEPTED;RSVP=TRUE;CN="Chris Ta
 ylor (CTAYLORMAN)":https://iknifecollector.com/profile/ChrisTaylor
ATTENDEE;ROLE=REQ-PARTICIPANT;PARTSTAT=ACCEPTED;RSVP=TRUE;CN="Charles 
 Sample":https://iknifecollector.com/profile/CharlesSample
ATTENDEE;ROLE=REQ-PARTICIPANT;PARTSTAT=ACCEPTED;RSVP=TRUE;CN="Chuck Pa
 rham":https://iknifecollector.com/profile/ChuckParham
ATTENDEE;ROLE=REQ-PARTICIPANT;PARTSTAT=ACCEPTED;RSVP=TRUE;CN="bruce Go
 dlesky":https://iknifecollector.com/profile/bruceGodlesky
ATTENDEE;ROLE=REQ-PARTICIPANT;PARTSTAT=ACCEPTED;RSVP=TRUE;CN="Michelle
  \"Fingers\" DellaPelle":https://iknifecollector.com/profile/MichelleD
 ellaPelle
ATTENDEE;ROLE=REQ-PARTICIPANT;PARTSTAT=ACCEPTED;RSVP=TRUE;CN="Jan Cart
 er":https://iknifecollector.com/profile/JanCarter
ATTENDEE;ROLE=REQ-PARTICIPANT;PARTSTAT=TENTATIVE;RSVP=TRUE;CN="Shlomo 
 ben Maved":https://iknifecollector.com/profile/ShlomobenMaved
ATTENDEE;ROLE=REQ-PARTICIPANT;PARTSTAT=TENTATIVE;RSVP=TRUE;CN="J.J. Sm
 ith III":https://iknifecollector.com/profile/JohnJSmithIII
END:VEVENT
END:VCALENDAR
