BEGIN:VCALENDAR
PRODID:NingEventWidget-v1
VERSION:2.0
METHOD:PUBLISH
BEGIN:VTIMEZONE
TZID:America/Chicago
X-LIC-LOCATION:America/Chicago
BEGIN:DAYLIGHT
TZOFFSETFROM:-0600
TZOFFSETTO:-0500
TZNAME:CDT
DTSTART:19700308T020000
RRULE:FREQ=YEARLY;BYMONTH=3;BYDAY=2SU
END:DAYLIGHT
BEGIN:STANDARD
TZOFFSETFROM:-0500
TZOFFSETTO:-0600
TZNAME:CST
DTSTART:19701101T020000
RRULE:FREQ=YEARLY;BYMONTH=11;BYDAY=1SU
END:STANDARD
END:VTIMEZONE
BEGIN:VEVENT
UID:3181080:Event:871638
DTSTAMP:20260423T010610Z
SUMMARY:R.K. Gun and Knife Show in Kansas, City Mo.
DESCRIPTION:R.K. Shows has a reputation for bringing you the highest 
 quality gun shows. Over 20 years of excellence in the making. R.K. Sh
 ows is continually increasing in size and quality. Don't miss out!\nB
 uy, Sale or Trade. Open to the Public\n\nFor more information visit ht
 tps://iknifecollector.com/events/r-k-gun-and-knife-show-in-kansas-city
 -mo
DTSTART;TZID=America/Chicago:20130615T080000
DTEND;TZID=America/Chicago:20130616T150000
CATEGORIES:gun, and, knife, show
LOCATION:KCI Expo Center
WEBSITE:http://rkshows.com/midwest/missouri.htm
URL:http://rkshows.com/midwest/missouri.htm
CONTACT:563-927-8176
ORGANIZER:Bruce Piehl/Doc's Knife Works
ATTACH;FMTTYPE="image/jpeg":http://storage.ning.com/topology/rest/1.0/
 file/get/2831392323?profile=original
ATTENDEE;ROLE=REQ-PARTICIPANT;PARTSTAT=ACCEPTED;RSVP=TRUE;CN="Bruce Pi
 ehl":https://iknifecollector.com/profile/brucepiehl
END:VEVENT
END:VCALENDAR
