BEGIN:VCALENDAR
PRODID:NingEventWidget-v1
VERSION:2.0
METHOD:PUBLISH
BEGIN:VTIMEZONE
TZID:America/Chicago
X-LIC-LOCATION:America/Chicago
BEGIN:DAYLIGHT
TZOFFSETFROM:-0600
TZOFFSETTO:-0500
TZNAME:CDT
DTSTART:19700308T020000
RRULE:FREQ=YEARLY;BYMONTH=3;BYDAY=2SU
END:DAYLIGHT
BEGIN:STANDARD
TZOFFSETFROM:-0500
TZOFFSETTO:-0600
TZNAME:CST
DTSTART:19701101T020000
RRULE:FREQ=YEARLY;BYMONTH=11;BYDAY=1SU
END:STANDARD
END:VTIMEZONE
BEGIN:VEVENT
UID:3181080:Event:675886
DTSTAMP:20260424T062106Z
SUMMARY:R&K Shows   Gun & Knife Show
DESCRIPTION:R.K. Shows has a reputation for bringing you the highest q
 uality gun shows. Over 20 years of excellence in the making. R.K. Show
 s is continually increasing in size and quality. Don't miss out! If th
 ere is something that you would like to see on this site, please call,
  write or e-mail.\n\nFor more information visit https://iknifecollecto
 r.com/events/r-k-shows-gun-knife-show
DTSTART;TZID=America/Chicago:20121201T000000
DTEND;TZID=America/Chicago:20121202T235900
CATEGORIES:gun, and, knife, show
LOCATION:El Hasa Temple
WEBSITE:http://rkshows.com/south/kentucky.htm
URL:http://rkshows.com/south/kentucky.htm
CONTACT:
ORGANIZER;CN="Jan Carter":https://iknifecollector.com/profile/JanCarte
 r
ATTACH;FMTTYPE="image/jpeg":
ATTENDEE;ROLE=REQ-PARTICIPANT;PARTSTAT=ACCEPTED;RSVP=TRUE;CN="Roger Cu
 nningham":https://iknifecollector.com/profile/RogerCunningham
ATTENDEE;ROLE=REQ-PARTICIPANT;PARTSTAT=ACCEPTED;RSVP=TRUE;CN="Jan Cart
 er":https://iknifecollector.com/profile/JanCarter
END:VEVENT
END:VCALENDAR
