BEGIN:VCALENDAR
PRODID:NingEventWidget-v1
VERSION:2.0
METHOD:PUBLISH
BEGIN:VTIMEZONE
TZID:America/Chicago
X-LIC-LOCATION:America/Chicago
BEGIN:DAYLIGHT
TZOFFSETFROM:-0600
TZOFFSETTO:-0500
TZNAME:CDT
DTSTART:19700308T020000
RRULE:FREQ=YEARLY;BYMONTH=3;BYDAY=2SU
END:DAYLIGHT
BEGIN:STANDARD
TZOFFSETFROM:-0500
TZOFFSETTO:-0600
TZNAME:CST
DTSTART:19701101T020000
RRULE:FREQ=YEARLY;BYMONTH=11;BYDAY=1SU
END:STANDARD
END:VTIMEZONE
BEGIN:VEVENT
UID:3181080:Event:520476
DTSTAMP:20260424T204759Z
SUMMARY:RK Gun & Knife Show
DESCRIPTION:500 tables of guns & knives. Come on out and see us.\n\nFo
 r more information visit https://iknifecollector.com/events/rk-gun-kni
 fe-show
DTSTART;TZID=America/Chicago:20111230T120000
DTEND;TZID=America/Chicago:20120101T150000
CATEGORIES:gun, "&", knife, show
LOCATION:Kentucky Fair & Exposition Center, Louisville, KY
WEBSITE:
URL:
CONTACT:
ORGANIZER;CN="Mike Carter":https://iknifecollector.com/profile/MikeCar
 ter
ATTACH;FMTTYPE="image/jpeg":
ATTENDEE;ROLE=REQ-PARTICIPANT;PARTSTAT=ACCEPTED;RSVP=TRUE;CN="Mike Car
 ter":https://iknifecollector.com/profile/MikeCarter
END:VEVENT
END:VCALENDAR
