BEGIN:VCALENDAR
PRODID:NingEventWidget-v1
VERSION:2.0
METHOD:PUBLISH
BEGIN:VTIMEZONE
TZID:America/Chicago
X-LIC-LOCATION:America/Chicago
BEGIN:DAYLIGHT
TZOFFSETFROM:-0600
TZOFFSETTO:-0500
TZNAME:CDT
DTSTART:19700308T020000
RRULE:FREQ=YEARLY;BYMONTH=3;BYDAY=2SU
END:DAYLIGHT
BEGIN:STANDARD
TZOFFSETFROM:-0500
TZOFFSETTO:-0600
TZNAME:CST
DTSTART:19701101T020000
RRULE:FREQ=YEARLY;BYMONTH=11;BYDAY=1SU
END:STANDARD
END:VTIMEZONE
BEGIN:VEVENT
UID:3181080:Event:741741
DTSTAMP:20260423T230947Z
SUMMARY:Saxet Gun and Knife Show in Austin Tx
DESCRIPTION:WELCOME to your one-stop shop for guns & ammo, knives, hun
 ting, camping & outdoors, Western collectibles and much, much more!\nF
 or over 20 years, SAXET Gun Shows have been the landmark gun and outdo
 or product trade shows for south and central Texas. Our shows are cons
 istently filled to capacity with a huge variety of firearms, accessori
 es, ammunition, knives, tactical gear, hunting and target sports produ
 cts, worthwhile organizations and much, much more. We’ve worked hard
  to bring you the solid, reputable vendors that you deserve and expect
 .\n\nFor more information visit https://iknifecollector.com/events/sax
 et-gun-and-knife-show-in-austin-tx-2
DTSTART;TZID=America/Chicago:20121215T090000
DTEND;TZID=America/Chicago:20121216T170000
CATEGORIES:gun, and, knife, show
LOCATION:Travis County Expo Center
WEBSITE:http://saxetshows.com/home
URL:http://saxetshows.com/home
CONTACT:(361) 289-2256
ORGANIZER;CN="Bruce Piehl":https://iknifecollector.com/profile/brucepi
 ehl
ATTACH;FMTTYPE="image/jpeg":http://storage.ning.com/topology/rest/1.0/
 file/get/2831316991?profile=original
ATTENDEE;ROLE=REQ-PARTICIPANT;PARTSTAT=ACCEPTED;RSVP=TRUE;CN="Bruce Pi
 ehl":https://iknifecollector.com/profile/brucepiehl
END:VEVENT
END:VCALENDAR
