BEGIN:VCALENDAR
PRODID:NingEventWidget-v1
VERSION:2.0
METHOD:PUBLISH
BEGIN:VTIMEZONE
TZID:America/Chicago
X-LIC-LOCATION:America/Chicago
BEGIN:DAYLIGHT
TZOFFSETFROM:-0600
TZOFFSETTO:-0500
TZNAME:CDT
DTSTART:19700308T020000
RRULE:FREQ=YEARLY;BYMONTH=3;BYDAY=2SU
END:DAYLIGHT
BEGIN:STANDARD
TZOFFSETFROM:-0500
TZOFFSETTO:-0600
TZNAME:CST
DTSTART:19701101T020000
RRULE:FREQ=YEARLY;BYMONTH=11;BYDAY=1SU
END:STANDARD
END:VTIMEZONE
BEGIN:VEVENT
UID:3181080:Event:567028
DTSTAMP:20260422T043617Z
SUMMARY:Saxet Gun and Knife Show in Corpus Christi, Tx
DESCRIPTION:WELCOME to your one-stop shop for guns & ammo, knives, hun
 ting, camping & outdoors, Western collectibles and much, much more!\n\
 nFor more information visit https://iknifecollector.com/events/saxet-g
 un-and-knife-show-in-corpus-christi-tx
DTSTART;TZID=America/Chicago:20120310T090000
DTEND;TZID=America/Chicago:20120311T170000
CATEGORIES:gun, and, knife, show
LOCATION:Richard M. Borchard Regional Fairgrounds
WEBSITE:http://saxetshows.com/index.htm
URL:http://saxetshows.com/index.htm
CONTACT:361-289-2256
ORGANIZER:Bruce Piehl/ Doc's Knife Works
ATTACH;FMTTYPE="image/jpeg":http://storage.ning.com/topology/rest/1.0/
 file/get/2831316991?profile=original
ATTENDEE;ROLE=REQ-PARTICIPANT;PARTSTAT=ACCEPTED;RSVP=TRUE;CN="Bruce Pi
 ehl":https://iknifecollector.com/profile/brucepiehl
END:VEVENT
END:VCALENDAR
