BEGIN:VCALENDAR
PRODID:NingEventWidget-v1
VERSION:2.0
METHOD:PUBLISH
BEGIN:VTIMEZONE
TZID:America/Chicago
X-LIC-LOCATION:America/Chicago
BEGIN:DAYLIGHT
TZOFFSETFROM:-0600
TZOFFSETTO:-0500
TZNAME:CDT
DTSTART:19700308T020000
RRULE:FREQ=YEARLY;BYMONTH=3;BYDAY=2SU
END:DAYLIGHT
BEGIN:STANDARD
TZOFFSETFROM:-0500
TZOFFSETTO:-0600
TZNAME:CST
DTSTART:19701101T020000
RRULE:FREQ=YEARLY;BYMONTH=11;BYDAY=1SU
END:STANDARD
END:VTIMEZONE
BEGIN:VEVENT
UID:3181080:Event:517044
DTSTAMP:20260424T193904Z
SUMMARY:Saxet Gun & Knife Show
DESCRIPTION:WELCOMEto your one-stop shop for guns & ammo, knives, hunt
 ing, camping & outdoors, Western collectibles and much, much more  !\
 n\nFor more information visit https://iknifecollector.com/events/saxet
 -gun-knife-show-1
DTSTART;TZID=America/Chicago:20111217T090000
DTEND;TZID=America/Chicago:20111218T170000
CATEGORIES:gun, "&", knife, show
LOCATION:Travis County EXPO Center
WEBSITE:http://saxetshows.com/_schedule.htm
URL:http://saxetshows.com/_schedule.htm
CONTACT:361-2892256
ORGANIZER:Bruce Piehl/ Doc's Knife Works
ATTACH;FMTTYPE="image/jpeg":
ATTENDEE;ROLE=REQ-PARTICIPANT;PARTSTAT=ACCEPTED;RSVP=TRUE;CN="Bruce Pi
 ehl":https://iknifecollector.com/profile/brucepiehl
END:VEVENT
END:VCALENDAR
