BEGIN:VCALENDAR
PRODID:NingEventWidget-v1
VERSION:2.0
METHOD:PUBLISH
BEGIN:VTIMEZONE
TZID:America/Chicago
X-LIC-LOCATION:America/Chicago
BEGIN:DAYLIGHT
TZOFFSETFROM:-0600
TZOFFSETTO:-0500
TZNAME:CDT
DTSTART:19700308T020000
RRULE:FREQ=YEARLY;BYMONTH=3;BYDAY=2SU
END:DAYLIGHT
BEGIN:STANDARD
TZOFFSETFROM:-0500
TZOFFSETTO:-0600
TZNAME:CST
DTSTART:19701101T020000
RRULE:FREQ=YEARLY;BYMONTH=11;BYDAY=1SU
END:STANDARD
END:VTIMEZONE
BEGIN:VEVENT
UID:3181080:Event:148581
DTSTAMP:20260424T033102Z
SUMMARY:Saxet Gun & Knife Show in Conroe Tx
DESCRIPTION:Buy, Sale or Trade HOURS:\nOpen to Customers - Sat. 9am - 
 6pm Sun. 9am - 5pm\n\nFor more information visit https://iknifecollect
 or.com/events/saxet-gun-knife-show-in-3
DTSTART;TZID=America/Chicago:20101030T090000
DTEND;TZID=America/Chicago:20101031T170000
CATEGORIES:gun, and, knife, show
LOCATION:Lone Star Convention Center
WEBSITE:http://www.saxetshows.com/_schedule.htm
URL:http://www.saxetshows.com/_schedule.htm
CONTACT:361-289-2256
ORGANIZER:Bruce Piehl/Doc's Knife Works
ATTACH;FMTTYPE="image/jpeg":http://storage.ning.com/topology/rest/1.0/
 file/get/2831236801?profile=original
ATTENDEE;ROLE=REQ-PARTICIPANT;PARTSTAT=ACCEPTED;RSVP=TRUE;CN="Bruce Pi
 ehl":https://iknifecollector.com/profile/brucepiehl
END:VEVENT
END:VCALENDAR
