BEGIN:VCALENDAR
PRODID:NingEventWidget-v1
VERSION:2.0
METHOD:PUBLISH
BEGIN:VTIMEZONE
TZID:America/Chicago
X-LIC-LOCATION:America/Chicago
BEGIN:DAYLIGHT
TZOFFSETFROM:-0600
TZOFFSETTO:-0500
TZNAME:CDT
DTSTART:19700308T020000
RRULE:FREQ=YEARLY;BYMONTH=3;BYDAY=2SU
END:DAYLIGHT
BEGIN:STANDARD
TZOFFSETFROM:-0500
TZOFFSETTO:-0600
TZNAME:CST
DTSTART:19701101T020000
RRULE:FREQ=YEARLY;BYMONTH=11;BYDAY=1SU
END:STANDARD
END:VTIMEZONE
BEGIN:VEVENT
UID:3181080:Event:174868
DTSTAMP:20260424T155656Z
SUMMARY:Saxet Gun & Knife Show in Austin, Texas
DESCRIPTION:WELCOME!  To your one-stop shop for guns, knives, ammo, c
 amping,hunting, and outdoors, western collectables, and more.\n\nFor m
 ore information visit https://iknifecollector.com/events/saxet-gun-kni
 fe-show-in-4
DTSTART;TZID=America/Chicago:20101218T090000
DTEND;TZID=America/Chicago:20101219T170000
CATEGORIES:gun, "&", knife, show
LOCATION:Travis County Expo Center
WEBSITE:http://www.saxetshows.com/_schedule.htm
URL:http://www.saxetshows.com/_schedule.htm
CONTACT:361-289-2256
ORGANIZER:Bruce Piehl/Doc's Knife Works
ATTACH;FMTTYPE="image/jpeg":http://storage.ning.com/topology/rest/1.0/
 file/get/2831236801?profile=original
ATTENDEE;ROLE=REQ-PARTICIPANT;PARTSTAT=ACCEPTED;RSVP=TRUE;CN="Bruce Pi
 ehl":https://iknifecollector.com/profile/brucepiehl
END:VEVENT
END:VCALENDAR
