BEGIN:VCALENDAR
PRODID:NingEventWidget-v1
VERSION:2.0
METHOD:PUBLISH
BEGIN:VTIMEZONE
TZID:America/Chicago
X-LIC-LOCATION:America/Chicago
BEGIN:DAYLIGHT
TZOFFSETFROM:-0600
TZOFFSETTO:-0500
TZNAME:CDT
DTSTART:19700308T020000
RRULE:FREQ=YEARLY;BYMONTH=3;BYDAY=2SU
END:DAYLIGHT
BEGIN:STANDARD
TZOFFSETFROM:-0500
TZOFFSETTO:-0600
TZNAME:CST
DTSTART:19701101T020000
RRULE:FREQ=YEARLY;BYMONTH=11;BYDAY=1SU
END:STANDARD
END:VTIMEZONE
BEGIN:VEVENT
UID:3181080:Event:504441
DTSTAMP:20260424T150239Z
SUMMARY:Saxet Gun & Knife Show in Corpus Christi, Tx at the Robstown F
 airgounds
DESCRIPTION:WELCOMEto your one-stop shop for guns & ammo, knives, hunt
 ing, camping & outdoors, Western collectibles and much, much more!\n\n
 For more information visit https://iknifecollector.com/events/saxet-gu
 n-knife-show-in-corpus-christi-tx-at-the-robstown
DTSTART;TZID=America/Chicago:20111124T180000
DTEND;TZID=America/Chicago:20111124T190000
CATEGORIES:gun, "&", knife, show
LOCATION:Richard M. Borchard Regional Fairgrounds
WEBSITE:http://saxetshows.com/index.htm
URL:http://saxetshows.com/index.htm
CONTACT:361-289-2256
ORGANIZER:Bruce Piehl/ Doc's Knife Works
ATTACH;FMTTYPE="image/jpeg":
ATTENDEE;ROLE=REQ-PARTICIPANT;PARTSTAT=ACCEPTED;RSVP=TRUE;CN="Bruce Pi
 ehl":https://iknifecollector.com/profile/brucepiehl
END:VEVENT
END:VCALENDAR
