BEGIN:VCALENDAR
PRODID:NingEventWidget-v1
VERSION:2.0
METHOD:PUBLISH
BEGIN:VTIMEZONE
TZID:America/Chicago
X-LIC-LOCATION:America/Chicago
BEGIN:DAYLIGHT
TZOFFSETFROM:-0600
TZOFFSETTO:-0500
TZNAME:CDT
DTSTART:19700308T020000
RRULE:FREQ=YEARLY;BYMONTH=3;BYDAY=2SU
END:DAYLIGHT
BEGIN:STANDARD
TZOFFSETFROM:-0500
TZOFFSETTO:-0600
TZNAME:CST
DTSTART:19701101T020000
RRULE:FREQ=YEARLY;BYMONTH=11;BYDAY=1SU
END:STANDARD
END:VTIMEZONE
BEGIN:VEVENT
UID:3181080:Event:172090
DTSTAMP:20260424T145302Z
SUMMARY:Saxet Gun & Knife Show in Pharr, Texas  down in the Rio Grande
 Valley
DESCRIPTION:WELCOME\nto your one-stop shop for guns & ammo, knives, hu
 nting, camping & outdoors, Western collectibles and much, much more!\n
 Buy, Sale or Trade!\n\nFor more information visit https://iknifecollec
 tor.com/events/saxet-gun-knife-show-in-pharr
DTSTART;TZID=America/Chicago:20101211T090000
DTEND;TZID=America/Chicago:20101211T170000
CATEGORIES:gun, "&", knife, show
LOCATION:El Centro Mall
WEBSITE:http://maps.google.com/maps?oe=utf-8&rls=org.mozilla:en-US:off
 icial&client=firefox-a&um=1&ie=UTF-8&q=El%2BCentro%2BMall%2B%2B500%2BN
 .%2BJackson,%2Bpharr,tx&fb=1&gl=us&hq=El%2BCentro%2BMall%2B500%2BN.%2B
 Jackson,&hnear=Pharr,%2BTX&cid=0,0,15792275280501181598&ei=XvicTJ2yDIS
 dlgfLmOHeCQ&sa=X&oi=local_result&ct=image&resnum=1&ved=0CBUQnwIwAA
URL:http://maps.google.com/maps?oe=utf-8&rls=org.mozilla:en-US:officia
 l&client=firefox-a&um=1&ie=UTF-8&q=El%2BCentro%2BMall%2B%2B500%2BN.%2B
 Jackson,%2Bpharr,tx&fb=1&gl=us&hq=El%2BCentro%2BMall%2B500%2BN.%2BJack
 son,&hnear=Pharr,%2BTX&cid=0,0,15792275280501181598&ei=XvicTJ2yDISdlgf
 LmOHeCQ&sa=X&oi=local_result&ct=image&resnum=1&ved=0CBUQnwIwAA
CONTACT:361-289-2256
ORGANIZER:Bruce Piehl/Doc's Knife Works
ATTACH;FMTTYPE="image/jpeg":http://storage.ning.com/topology/rest/1.0/
 file/get/2831236801?profile=original
ATTENDEE;ROLE=REQ-PARTICIPANT;PARTSTAT=ACCEPTED;RSVP=TRUE;CN="Bruce Pi
 ehl":https://iknifecollector.com/profile/brucepiehl
END:VEVENT
END:VCALENDAR
