BEGIN:VCALENDAR
PRODID:NingEventWidget-v1
VERSION:2.0
METHOD:PUBLISH
BEGIN:VTIMEZONE
TZID:America/Chicago
X-LIC-LOCATION:America/Chicago
BEGIN:DAYLIGHT
TZOFFSETFROM:-0600
TZOFFSETTO:-0500
TZNAME:CDT
DTSTART:19700308T020000
RRULE:FREQ=YEARLY;BYMONTH=3;BYDAY=2SU
END:DAYLIGHT
BEGIN:STANDARD
TZOFFSETFROM:-0500
TZOFFSETTO:-0600
TZNAME:CST
DTSTART:19701101T020000
RRULE:FREQ=YEARLY;BYMONTH=11;BYDAY=1SU
END:STANDARD
END:VTIMEZONE
BEGIN:VEVENT
UID:3181080:Event:419049
DTSTAMP:20260424T150006Z
SUMMARY:SDKCA & ALHAMBRA SHRINERS KNIFE SHOW
DESCRIPTION:SDKCA & ALHAMBRA SHRINERS KNIFE SHOW Sponsored by: SDKCA -
  Soddy Daisy Knife Collectors Association Hosted by: Alhambra Shriners
  Location: Alhambra Shrine Temple, 1000 Alhambra Dr, Chattanooga, TN D
 ates: November 11-12, 2011 Show Times: Fri 12-6pm, & Sat 9am-5pm Admis
 sion: $5 Vendor Tables: 100+Available Table Price: $45 each Vendor Set
 -up time: Fri 7am-12 Vendors interested in setting up for the show sho
 uld contact: Ronald Franklin (423) 400-4812, or email sdkca@live.com.\
 nWeb Site: sdkca.com\nThe Best Place to Buy, Sell and Trade a knife is
  at the Soddy Daisy Knife Show.\n\nFor more information visit https://
 iknifecollector.com/events/sdkca-alhambra-shriners-knife-show
DTSTART;TZID=America/Chicago:20111111T120000
DTEND;TZID=America/Chicago:20111112T180000
CATEGORIES:knife, show
LOCATION:Alhambra Shrine Temple
WEBSITE:http://maps.google.com/maps/ms?msa=0&msid=21676917667924908037
 6.0004aa27e1debefe0b019&hl=en&ie=UTF8&ll=35.799994,-84.550781&spn=3.30
 9979,7.124634&z=8
URL:http://maps.google.com/maps/ms?msa=0&msid=216769176679249080376.00
 04aa27e1debefe0b019&hl=en&ie=UTF8&ll=35.799994,-84.550781&spn=3.309979
 ,7.124634&z=8
CONTACT:423-400-4812
ORGANIZER;CN="Ronald Franklin":https://iknifecollector.com/profile/Ron
 aldFranklin
ATTACH;FMTTYPE="image/jpeg":
ATTENDEE;ROLE=REQ-PARTICIPANT;PARTSTAT=ACCEPTED;RSVP=TRUE;CN="Ronald F
 ranklin":https://iknifecollector.com/profile/RonaldFranklin
END:VEVENT
END:VCALENDAR
