BEGIN:VCALENDAR
PRODID:NingEventWidget-v1
VERSION:2.0
METHOD:PUBLISH
BEGIN:VTIMEZONE
TZID:America/Chicago
X-LIC-LOCATION:America/Chicago
BEGIN:DAYLIGHT
TZOFFSETFROM:-0600
TZOFFSETTO:-0500
TZNAME:CDT
DTSTART:19700308T020000
RRULE:FREQ=YEARLY;BYMONTH=3;BYDAY=2SU
END:DAYLIGHT
BEGIN:STANDARD
TZOFFSETFROM:-0500
TZOFFSETTO:-0600
TZNAME:CST
DTSTART:19701101T020000
RRULE:FREQ=YEARLY;BYMONTH=11;BYDAY=1SU
END:STANDARD
END:VTIMEZONE
BEGIN:VEVENT
UID:3181080:Event:761656
DTSTAMP:20260422T211140Z
SUMMARY:Shenandoah Valley Knife Collectors
DESCRIPTION:\nShow hours are:  2 – 7 PM Friday,  9 AM – 4 PM S
 aturday, and 9 AM – 3 PM Sunday\n\n\nDealer setup begins at 12 Noon 
 on Friday, and  7:30 – 8:30 AM on Saturday.\n\n\nTable cost is $
 60 for sell and trade tables, and $30 for display tables. Please down
 load and print out this pdf to apply for a table.\n\n\nGeneral admiss
 ion is $5 with children under 12 free (if accompanied by an adult)\n\n
 \nOnly knives and knife related items are allowed at the show. Guns ar
 e not permitted in any circumstance. Management reserves the right to 
 accept only reservations that are deemed appropriate for the show. Sec
 urity personnel are provided Friday night and Saturday night after sho
 w hours to guard merchandise.\n\n\nThere is free parking with easy loa
 ding and unloading next to the building.  There is also free parking
  for general attendance at the show.\n\n\nJudging will be conducted in
  several categories for collections, displays and individual knives on
  Saturday (See Awards Banquet page).\n\n\nFor more information visit h
 ttps://iknifecollector.com/events/shenandoah-valley-knife-collectors
DTSTART;TZID=America/Chicago:20130405T180000
DTEND;TZID=America/Chicago:20130407T190000
CATEGORIES:knife, show
LOCATION:Rockingham County Fairgrounds main building
WEBSITE:http://www.svkc.org/annual_show
URL:http://www.svkc.org/annual_show
CONTACT:
ORGANIZER;CN="Jan Carter":https://iknifecollector.com/profile/JanCarte
 r
ATTACH;FMTTYPE="image/jpeg":
ATTENDEE;ROLE=REQ-PARTICIPANT;PARTSTAT=ACCEPTED;RSVP=TRUE;CN="Jan Cart
 er":https://iknifecollector.com/profile/JanCarter
ATTENDEE;ROLE=REQ-PARTICIPANT;PARTSTAT=TENTATIVE;RSVP=TRUE;CN="Derek B
 odford":https://iknifecollector.com/profile/DerekBodford
END:VEVENT
END:VCALENDAR
