BEGIN:VCALENDAR
PRODID:NingEventWidget-v1
VERSION:2.0
METHOD:PUBLISH
BEGIN:VTIMEZONE
TZID:America/Chicago
X-LIC-LOCATION:America/Chicago
BEGIN:DAYLIGHT
TZOFFSETFROM:-0600
TZOFFSETTO:-0500
TZNAME:CDT
DTSTART:19700308T020000
RRULE:FREQ=YEARLY;BYMONTH=3;BYDAY=2SU
END:DAYLIGHT
BEGIN:STANDARD
TZOFFSETFROM:-0500
TZOFFSETTO:-0600
TZNAME:CST
DTSTART:19701101T020000
RRULE:FREQ=YEARLY;BYMONTH=11;BYDAY=1SU
END:STANDARD
END:VTIMEZONE
BEGIN:VEVENT
UID:3181080:Event:1476682
DTSTAMP:20260420T122828Z
SUMMARY:Shepherd Hills Cutlery (MO) CASE EVENT
DESCRIPTION:.\n\nFor more information visit https://iknifecollector.co
 m/events/shepherd-hills-cutlery-mo-case-event
DTSTART;TZID=America/Chicago:20170909T090000
DTEND;TZID=America/Chicago:20170909T160000
CATEGORIES:wr, case, tour, event
LOCATION:Shepherd Hills Cutlery
WEBSITE:http://www.wrcase.com/happenings/events/
URL:http://www.wrcase.com/happenings/events/
CONTACT:
ORGANIZER:
ATTACH;FMTTYPE="image/jpeg":http://storage.ning.com/topology/rest/1.0/
 file/get/2831439982?profile=original
END:VEVENT
END:VCALENDAR
