BEGIN:VCALENDAR
PRODID:NingEventWidget-v1
VERSION:2.0
METHOD:PUBLISH
BEGIN:VTIMEZONE
TZID:America/Chicago
X-LIC-LOCATION:America/Chicago
BEGIN:DAYLIGHT
TZOFFSETFROM:-0600
TZOFFSETTO:-0500
TZNAME:CDT
DTSTART:19700308T020000
RRULE:FREQ=YEARLY;BYMONTH=3;BYDAY=2SU
END:DAYLIGHT
BEGIN:STANDARD
TZOFFSETFROM:-0500
TZOFFSETTO:-0600
TZNAME:CST
DTSTART:19701101T020000
RRULE:FREQ=YEARLY;BYMONTH=11;BYDAY=1SU
END:STANDARD
END:VTIMEZONE
BEGIN:VEVENT
UID:3181080:Event:1453081
DTSTAMP:20260423T234451Z
SUMMARY:SHOT Show (NV)
DESCRIPTION:Closed to the public – SHOT is where the major producti
 on knife brands unveil the bulk of the year’s new products. The 
 show occupies a premium place on the calendar, easily making it the m
 ost important knife show to knife enthusiasts.\n\nFor more informatio
 n visit https://iknifecollector.com/events/shot-show-nv
DTSTART;TZID=America/Chicago:20170119T000000
DTEND;TZID=America/Chicago:20170122T235900
CATEGORIES:knife, gathering
LOCATION:Las Vegas
WEBSITE:http://knifenews.com/2016-biggest-knife-shows/
URL:http://knifenews.com/2016-biggest-knife-shows/
CONTACT:
ORGANIZER;CN="Jan Carter":https://iknifecollector.com/profile/JanCarte
 r
ATTACH;FMTTYPE="image/jpeg":
END:VEVENT
END:VCALENDAR
