BEGIN:VCALENDAR
PRODID:NingEventWidget-v1
VERSION:2.0
METHOD:PUBLISH
BEGIN:VTIMEZONE
TZID:America/Chicago
X-LIC-LOCATION:America/Chicago
BEGIN:DAYLIGHT
TZOFFSETFROM:-0600
TZOFFSETTO:-0500
TZNAME:CDT
DTSTART:19700308T020000
RRULE:FREQ=YEARLY;BYMONTH=3;BYDAY=2SU
END:DAYLIGHT
BEGIN:STANDARD
TZOFFSETFROM:-0500
TZOFFSETTO:-0600
TZNAME:CST
DTSTART:19701101T020000
RRULE:FREQ=YEARLY;BYMONTH=11;BYDAY=1SU
END:STANDARD
END:VTIMEZONE
BEGIN:VEVENT
UID:3181080:Event:1202183
DTSTAMP:20260425T184522Z
SUMMARY:SLIDELL GUN & KNIFE SHOW
DESCRIPTION:With the finest gun and knife dealers in the South!More 
 than 60 Exhibitors, 225 tables!Come buy, sell, and trade!Thousands 
 of new/used handguns and rifles.Discount ammo, gun parts, holsters.Ne
 w, used, and custom-made knives.Archery goods. Police tactical suppli
 es.Scopes, binoculars, hunting gear.  Professional gunsmith and engr
 aver on-site.\n\nFor more information visit https://iknifecollector.co
 m/events/slidell-gun-knife-show
DTSTART;TZID=America/Chicago:20141101T000000
DTEND;TZID=America/Chicago:20141102T235900
CATEGORIES:gun, "&", knife, show
LOCATION:Northshore Harbor Center
WEBSITE:http://slidellgunandknifeshow.com/
URL:http://slidellgunandknifeshow.com/
CONTACT:
ORGANIZER;CN="Jan Carter":https://iknifecollector.com/profile/JanCarte
 r
ATTACH;FMTTYPE="image/jpeg":
ATTENDEE;ROLE=REQ-PARTICIPANT;PARTSTAT=ACCEPTED;RSVP=TRUE;CN="Jan Cart
 er":https://iknifecollector.com/profile/JanCarter
END:VEVENT
END:VCALENDAR
