BEGIN:VCALENDAR
PRODID:NingEventWidget-v1
VERSION:2.0
METHOD:PUBLISH
BEGIN:VTIMEZONE
TZID:America/Chicago
X-LIC-LOCATION:America/Chicago
BEGIN:DAYLIGHT
TZOFFSETFROM:-0600
TZOFFSETTO:-0500
TZNAME:CDT
DTSTART:19700308T020000
RRULE:FREQ=YEARLY;BYMONTH=3;BYDAY=2SU
END:DAYLIGHT
BEGIN:STANDARD
TZOFFSETFROM:-0500
TZOFFSETTO:-0600
TZNAME:CST
DTSTART:19701101T020000
RRULE:FREQ=YEARLY;BYMONTH=11;BYDAY=1SU
END:STANDARD
END:VTIMEZONE
BEGIN:VEVENT
UID:3181080:Event:738491
DTSTAMP:20260423T183906Z
SUMMARY:Southaven Gun and Knife Show
DESCRIPTION:Show Times:-Saturday, January 5, 20139:00am - 5:00pm-Sunda
 y, January 6, 201310:00am - 5:00pm\n\nFor more information visit https
 ://iknifecollector.com/events/southaven-gun-and-knife-show
DTSTART;TZID=America/Chicago:20130105T180000
DTEND;TZID=America/Chicago:20130106T190000
CATEGORIES:gun, and, knife, show
LOCATION:-Southaven Arena
WEBSITE:http://www.gunshowmonster.com/gunshows/southaven-gun-and-knife
 -2013-01-05-Southaven-MS.html
URL:http://www.gunshowmonster.com/gunshows/southaven-gun-and-knife-201
 3-01-05-Southaven-MS.html
CONTACT:
ORGANIZER;CN="Jan Carter":https://iknifecollector.com/profile/JanCarte
 r
ATTACH;FMTTYPE="image/jpeg":
ATTENDEE;ROLE=REQ-PARTICIPANT;PARTSTAT=ACCEPTED;RSVP=TRUE;CN="Jan Cart
 er":https://iknifecollector.com/profile/JanCarter
END:VEVENT
END:VCALENDAR
