BEGIN:VCALENDAR
PRODID:NingEventWidget-v1
VERSION:2.0
METHOD:PUBLISH
BEGIN:VTIMEZONE
TZID:America/Chicago
X-LIC-LOCATION:America/Chicago
BEGIN:DAYLIGHT
TZOFFSETFROM:-0600
TZOFFSETTO:-0500
TZNAME:CDT
DTSTART:19700308T020000
RRULE:FREQ=YEARLY;BYMONTH=3;BYDAY=2SU
END:DAYLIGHT
BEGIN:STANDARD
TZOFFSETFROM:-0500
TZOFFSETTO:-0600
TZNAME:CST
DTSTART:19701101T020000
RRULE:FREQ=YEARLY;BYMONTH=11;BYDAY=1SU
END:STANDARD
END:VTIMEZONE
BEGIN:VEVENT
UID:3181080:Event:141765
DTSTAMP:20260424T045740Z
SUMMARY:Spirit  of Steel Knife Show
DESCRIPTION:Handmade and Custom, Tactical, Vintage, Modern Knives\n\nF
 or more information visit https://iknifecollector.com/events/spirit-of
 -steel-knife-show
DTSTART;TZID=America/Chicago:20101105T140000
DTEND;TZID=America/Chicago:20101107T160000
CATEGORIES:knife, show
LOCATION:Marriott Hotel
WEBSITE:http://www.spiritofsteel.com
URL:http://www.spiritofsteel.com
CONTACT:423-238-6753
ORGANIZER:Bruce Voyles
ATTACH;FMTTYPE="image/jpeg":
ATTENDEE;ROLE=REQ-PARTICIPANT;PARTSTAT=ACCEPTED;RSVP=TRUE;CN="John Hal
 l":https://iknifecollector.com/profile/JohnHall
ATTENDEE;ROLE=REQ-PARTICIPANT;PARTSTAT=ACCEPTED;RSVP=TRUE;CN="Gary Ken
 nedy":https://iknifecollector.com/profile/GaryKennedy
END:VEVENT
END:VCALENDAR
