BEGIN:VCALENDAR
PRODID:NingEventWidget-v1
VERSION:2.0
METHOD:PUBLISH
BEGIN:VTIMEZONE
TZID:America/Chicago
X-LIC-LOCATION:America/Chicago
BEGIN:DAYLIGHT
TZOFFSETFROM:-0600
TZOFFSETTO:-0500
TZNAME:CDT
DTSTART:19700308T020000
RRULE:FREQ=YEARLY;BYMONTH=3;BYDAY=2SU
END:DAYLIGHT
BEGIN:STANDARD
TZOFFSETFROM:-0500
TZOFFSETTO:-0600
TZNAME:CST
DTSTART:19701101T020000
RRULE:FREQ=YEARLY;BYMONTH=11;BYDAY=1SU
END:STANDARD
END:VTIMEZONE
BEGIN:VEVENT
UID:3181080:Event:1453134
DTSTAMP:20260424T080909Z
SUMMARY:Spirit Of The Blade Custom Knife Show 2017 (OH)
DESCRIPTION:This is a custom handmade knife show. Table cost will be $
 80 ea (limit 3 per tableholder).General admission $5 per person (child
 ren 12 and under free).Friday 1pm-7pm Saturday 9am - 5pm\n\nFor more 
 information visit https://iknifecollector.com/events/spirit-of-the-bla
 de-custom-knife-show-2017-oh
DTSTART;TZID=America/Chicago:20170303T000000
DTEND;TZID=America/Chicago:20170304T235900
CATEGORIES:knife, show
LOCATION:Miami County Fairgrounds-Duke Lundgard Building
WEBSITE:https://www.facebook.com/events/207372749623881
URL:https://www.facebook.com/events/207372749623881
CONTACT:
ORGANIZER;CN="Jan Carter":https://iknifecollector.com/profile/JanCarte
 r
ATTACH;FMTTYPE="image/jpeg":
END:VEVENT
END:VCALENDAR
