BEGIN:VCALENDAR
PRODID:NingEventWidget-v1
VERSION:2.0
METHOD:PUBLISH
BEGIN:VTIMEZONE
TZID:America/Chicago
X-LIC-LOCATION:America/Chicago
BEGIN:DAYLIGHT
TZOFFSETFROM:-0600
TZOFFSETTO:-0500
TZNAME:CDT
DTSTART:19700308T020000
RRULE:FREQ=YEARLY;BYMONTH=3;BYDAY=2SU
END:DAYLIGHT
BEGIN:STANDARD
TZOFFSETFROM:-0500
TZOFFSETTO:-0600
TZNAME:CST
DTSTART:19701101T020000
RRULE:FREQ=YEARLY;BYMONTH=11;BYDAY=1SU
END:STANDARD
END:VTIMEZONE
BEGIN:VEVENT
UID:3181080:Event:1652101
DTSTAMP:20260420T105849Z
SUMMARY:Spirit of the Blade Custom Knife Show **OH
DESCRIPTION:The Spirit of the Blade Show is a 2 day knife show designe
 d to serve the knife making/collecting community. All knives displayed
  will be 100 percent custom/ handmade.\r\n12-5 PM Friday, 9-5 PM Satur
 day\r\nCollectors, knife makers, blade enthusiasts, sportsmen and anyo
 ne interested in the custom knife community are encouraged to attend. 
 We hope to present a wide variety of knives, cutting edge items, knife
  making related materials, parts, equipment and 0ther supplies.\r\nDoo
 r prizes from local businesses, makers and suppliers will be drawn eve
 ry hour on both days. Maker awards will be presented at the opening of
  the first day.\r\nJoin us in supporting all the amazing makers and pu
 rchase a knife either day of the show for a chance to win a knife from
  one the many makers.\n\nFor more information visit https://iknifecoll
 ector.com/events/spirit-of-the-blade-custom-knife-show-oh
DTSTART;TZID=America/Chicago:20210305T180000
DTEND;TZID=America/Chicago:20210306T190000
CATEGORIES:knife, show
LOCATION:Miami County Fairgrounds
WEBSITE:https://www.knifemagazine.com/event/spirit-of-the-blade-custom
 -knife-show/2021-03-05/
URL:https://www.knifemagazine.com/event/spirit-of-the-blade-custom-kni
 fe-show/2021-03-05/
CONTACT:
ORGANIZER;CN="Jan Carter":https://iknifecollector.com/profile/JanCarte
 r
ATTACH;FMTTYPE="image/jpeg":
END:VEVENT
END:VCALENDAR
