BEGIN:VCALENDAR
PRODID:NingEventWidget-v1
VERSION:2.0
METHOD:PUBLISH
BEGIN:VTIMEZONE
TZID:America/Chicago
X-LIC-LOCATION:America/Chicago
BEGIN:DAYLIGHT
TZOFFSETFROM:-0600
TZOFFSETTO:-0500
TZNAME:CDT
DTSTART:19700308T020000
RRULE:FREQ=YEARLY;BYMONTH=3;BYDAY=2SU
END:DAYLIGHT
BEGIN:STANDARD
TZOFFSETFROM:-0500
TZOFFSETTO:-0600
TZNAME:CST
DTSTART:19701101T020000
RRULE:FREQ=YEARLY;BYMONTH=11;BYDAY=1SU
END:STANDARD
END:VTIMEZONE
BEGIN:VEVENT
UID:3181080:Event:1730821
DTSTAMP:20260422T151455Z
SUMMARY:Spring 2025 California Custom Knife Show
DESCRIPTION:An incredible display of handmade knives from some of the 
 finest makers in the world. These knife makers will be accompanied by 
 the top purveyors, retailers, suppliers, and craftsman in the Every Da
 y Carry community!\n\nFor more information visit https://iknifecollect
 or.com/events/spring-2025-california-custom-knife-show
DTSTART;TZID=America/Chicago:20250201T180000
DTEND;TZID=America/Chicago:20250202T190000
CATEGORIES:knife, show
LOCATION:Embassy Suites - Anaheim
WEBSITE:https://recon1.com/pages/ccks-spring
URL:https://recon1.com/pages/ccks-spring
CONTACT:
ORGANIZER;CN="Jan Carter":https://iknifecollector.com/profile/JanCarte
 r
ATTACH;FMTTYPE="image/jpeg":
ATTENDEE;ROLE=REQ-PARTICIPANT;PARTSTAT=TENTATIVE;RSVP=TRUE;CN="Eric Ha
 ll":https://iknifecollector.com/profile/EricHall
END:VEVENT
END:VCALENDAR
