BEGIN:VCALENDAR
PRODID:NingEventWidget-v1
VERSION:2.0
METHOD:PUBLISH
BEGIN:VTIMEZONE
TZID:America/Chicago
X-LIC-LOCATION:America/Chicago
BEGIN:DAYLIGHT
TZOFFSETFROM:-0600
TZOFFSETTO:-0500
TZNAME:CDT
DTSTART:19700308T020000
RRULE:FREQ=YEARLY;BYMONTH=3;BYDAY=2SU
END:DAYLIGHT
BEGIN:STANDARD
TZOFFSETFROM:-0500
TZOFFSETTO:-0600
TZNAME:CST
DTSTART:19701101T020000
RRULE:FREQ=YEARLY;BYMONTH=11;BYDAY=1SU
END:STANDARD
END:VTIMEZONE
BEGIN:VEVENT
UID:3181080:Event:703512
DTSTAMP:20260422T181008Z
SUMMARY:Spring Knife Show, Central KY Knife Club
DESCRIPTION:2013 CKKC Spring Knife Show  April 19, 20 & 21\nAntique, 
 Modern & Custom and  Related Supplies\nBuy, Sell and Trade\nDealer 
 tables $80\nContact Jim Thompson - 859-623-1419 - thomp@adelphia.net\n
 Clarion is just off Interstate 75 at exit 115\n\nFor more information 
 visit https://iknifecollector.com/events/spring-knife-show-central-ky-
 knife-club
DTSTART;TZID=America/Chicago:20130419T100000
DTEND;TZID=America/Chicago:20130421T140000
CATEGORIES:knife, club, event
LOCATION:Clarion Hotel Convention Center
WEBSITE:
URL:
CONTACT:859-233-0512
ORGANIZER;CN="Jim Thompson":https://iknifecollector.com/profile/JimTho
 mpson
ATTACH;FMTTYPE="image/jpeg":
ATTENDEE;ROLE=REQ-PARTICIPANT;PARTSTAT=ACCEPTED;RSVP=TRUE;CN="Roger Cu
 nningham":https://iknifecollector.com/profile/RogerCunningham
ATTENDEE;ROLE=REQ-PARTICIPANT;PARTSTAT=ACCEPTED;RSVP=TRUE;CN="joe spal
 ding":https://iknifecollector.com/profile/joespalding
ATTENDEE;ROLE=REQ-PARTICIPANT;PARTSTAT=ACCEPTED;RSVP=TRUE;CN="Jim Thom
 pson":https://iknifecollector.com/profile/JimThompson
ATTENDEE;ROLE=REQ-PARTICIPANT;PARTSTAT=TENTATIVE;RSVP=TRUE;CN="Sue Old
 sWidow":https://iknifecollector.com/profile/SueOldsWidow
END:VEVENT
END:VCALENDAR
