BEGIN:VCALENDAR
PRODID:NingEventWidget-v1
VERSION:2.0
METHOD:PUBLISH
BEGIN:VTIMEZONE
TZID:America/Chicago
X-LIC-LOCATION:America/Chicago
BEGIN:DAYLIGHT
TZOFFSETFROM:-0600
TZOFFSETTO:-0500
TZNAME:CDT
DTSTART:19700308T020000
RRULE:FREQ=YEARLY;BYMONTH=3;BYDAY=2SU
END:DAYLIGHT
BEGIN:STANDARD
TZOFFSETFROM:-0500
TZOFFSETTO:-0600
TZNAME:CST
DTSTART:19701101T020000
RRULE:FREQ=YEARLY;BYMONTH=11;BYDAY=1SU
END:STANDARD
END:VTIMEZONE
BEGIN:VEVENT
UID:3181080:Event:1453064
DTSTAMP:20260423T223909Z
SUMMARY:Tactical Knife Invitational (NV)
DESCRIPTION:Tactical Knife Invitational is a 1 day event being held on
  21st January 2017 at the Caesars Palace in Las Vegas, United States O
 f America. This event showcases products like Knife Treasures, Sportin
 g Goods, Knife and Tool Institute, Photography, Cutlery set and the li
 st is endless etc. in the Business Services, Security & Defense indust
 ries.\n\nFor more information visit https://iknifecollector.com/events
 /tactical-knife-invitational-nv
DTSTART;TZID=America/Chicago:20170121T000000
DTEND;TZID=America/Chicago:20170121T235900
CATEGORIES:knife, show
LOCATION:Caesars Palace (NV)
WEBSITE:http://10times.com/tactical-knife-invitational
URL:http://10times.com/tactical-knife-invitational
CONTACT:
ORGANIZER;CN="Jan Carter":https://iknifecollector.com/profile/JanCarte
 r
ATTACH;FMTTYPE="image/jpeg":
END:VEVENT
END:VCALENDAR
