BEGIN:VCALENDAR
PRODID:NingEventWidget-v1
VERSION:2.0
METHOD:PUBLISH
BEGIN:VTIMEZONE
TZID:America/Chicago
X-LIC-LOCATION:America/Chicago
BEGIN:DAYLIGHT
TZOFFSETFROM:-0600
TZOFFSETTO:-0500
TZNAME:CDT
DTSTART:19700308T020000
RRULE:FREQ=YEARLY;BYMONTH=3;BYDAY=2SU
END:DAYLIGHT
BEGIN:STANDARD
TZOFFSETFROM:-0500
TZOFFSETTO:-0600
TZNAME:CST
DTSTART:19701101T020000
RRULE:FREQ=YEARLY;BYMONTH=11;BYDAY=1SU
END:STANDARD
END:VTIMEZONE
BEGIN:VEVENT
UID:3181080:Event:1400364
DTSTAMP:20260424T045905Z
SUMMARY:Tar Heel Cutlery Club Knife Show - April 29-30 (NC)
DESCRIPTION:The Tar Heel Cutlery Club will have its 41st Annual Knife 
 Show on April 29-30, 2016 at Winston-Salem Fairgrounds in Winston-Sale
 m, NC. \"Sell - Trade - Buy - Exhibit: Pocket Knives, Folding Knives,
  Fixed Blade Knives, Custom Knives, Zippo Lighters, Gold & Silver Coin
 s, Watches\". \n\nFor more information visit https://iknifecollector.
 com/events/tar-heel-cutlery-club-knife-show-april-29-30-nc
DTSTART;TZID=America/Chicago:20160429T100000
DTEND;TZID=America/Chicago:20160430T170000
CATEGORIES:knife, club, show, and, sale
LOCATION:Winston-Salem, North Carolina Fairgrounds
WEBSITE:https://www.google.com/maps/place/Winston+Salem+Fairgrounds/@3
 6.1247437,-80.2571228,17z/data=!4m7!1m4!3m3!1s0x8853ae754ae030b9:0xc77
 1e8dedd347cbd!2sWinston+Salem+Fairgrounds!3b1!3m1!1s0x8853ae754ae030b9
 :0xc771e8dedd347cbd
URL:https://www.google.com/maps/place/Winston+Salem+Fairgrounds/@36.12
 47437,-80.2571228,17z/data=!4m7!1m4!3m3!1s0x8853ae754ae030b9:0xc771e8d
 edd347cbd!2sWinston+Salem+Fairgrounds!3b1!3m1!1s0x8853ae754ae030b9:0xc
 771e8dedd347cbd
CONTACT:
ORGANIZER:John Waller
ATTACH;FMTTYPE="image/jpeg":
ATTENDEE;ROLE=REQ-PARTICIPANT;PARTSTAT=ACCEPTED;RSVP=TRUE;CN="J.J. Smi
 th III":https://iknifecollector.com/profile/JohnJSmithIII
ATTENDEE;ROLE=REQ-PARTICIPANT;PARTSTAT=ACCEPTED;RSVP=TRUE;CN="Jay Ente
 rkin":https://iknifecollector.com/profile/JayEnterkin
END:VEVENT
END:VCALENDAR
