BEGIN:VCALENDAR
PRODID:NingEventWidget-v1
VERSION:2.0
METHOD:PUBLISH
BEGIN:VTIMEZONE
TZID:America/Chicago
X-LIC-LOCATION:America/Chicago
BEGIN:DAYLIGHT
TZOFFSETFROM:-0600
TZOFFSETTO:-0500
TZNAME:CDT
DTSTART:19700308T020000
RRULE:FREQ=YEARLY;BYMONTH=3;BYDAY=2SU
END:DAYLIGHT
BEGIN:STANDARD
TZOFFSETFROM:-0500
TZOFFSETTO:-0600
TZNAME:CST
DTSTART:19701101T020000
RRULE:FREQ=YEARLY;BYMONTH=11;BYDAY=1SU
END:STANDARD
END:VTIMEZONE
BEGIN:VEVENT
UID:3181080:Event:1529853
DTSTAMP:20260420T003637Z
SUMMARY:Tarheel Knife Club Show
DESCRIPTION:43rd Annual Tar Heel Cutlery Club Show\nPocket Knives - Fo
 lding Knives - Sheaths - Custom Knives Fixed Blade Knives - American &
  Foreign Knives - Old & New Knives\nSell * Trade * Buy * Exhibit\nFree
  Admission!\nKnife Auction Saturday at 2pm\n\nFor more information vis
 it https://iknifecollector.com/events/tarheel-knife-club-show
DTSTART;TZID=America/Chicago:20180323T100000
DTEND;TZID=America/Chicago:20180324T160000
CATEGORIES:knife, club, annual, show
LOCATION:Yadkin VFW Building
WEBSITE:http://tarheelcutlery.club/knife_show.htm
URL:http://tarheelcutlery.club/knife_show.htm
CONTACT:336-679-8817
ORGANIZER:Chris Groce
ATTACH;FMTTYPE="image/jpeg":
ATTENDEE;ROLE=REQ-PARTICIPANT;PARTSTAT=ACCEPTED;RSVP=TRUE;CN="Jay Ente
 rkin":https://iknifecollector.com/profile/JayEnterkin
ATTENDEE;ROLE=REQ-PARTICIPANT;PARTSTAT=TENTATIVE;RSVP=TRUE;CN="J.J. Sm
 ith III":https://iknifecollector.com/profile/JohnJSmithIII
END:VEVENT
END:VCALENDAR
