BEGIN:VCALENDAR
PRODID:NingEventWidget-v1
VERSION:2.0
METHOD:PUBLISH
BEGIN:VTIMEZONE
TZID:America/Chicago
X-LIC-LOCATION:America/Chicago
BEGIN:DAYLIGHT
TZOFFSETFROM:-0600
TZOFFSETTO:-0500
TZNAME:CDT
DTSTART:19700308T020000
RRULE:FREQ=YEARLY;BYMONTH=3;BYDAY=2SU
END:DAYLIGHT
BEGIN:STANDARD
TZOFFSETFROM:-0500
TZOFFSETTO:-0600
TZNAME:CST
DTSTART:19701101T020000
RRULE:FREQ=YEARLY;BYMONTH=11;BYDAY=1SU
END:STANDARD
END:VTIMEZONE
BEGIN:VEVENT
UID:3181080:Event:142787
DTSTAMP:20260424T021241Z
SUMMARY:Tejas Gun & Knife Show
DESCRIPTION:BUY SELL TRADE\nGUNS KINIVES AMMO and MORE\n\nFor more inf
 ormation visit https://iknifecollector.com/events/tejas-gun-knife-show
DTSTART;TZID=America/Chicago:20101016T090000
DTEND;TZID=America/Chicago:20101017T170000
CATEGORIES:gun, and, knife, show
LOCATION:Ft. Bend County Fairgrounds
WEBSITE:http://www.paperg.com/flyerboard/tejas-gun-show/1558/22011.htm
 l
URL:http://www.paperg.com/flyerboard/tejas-gun-show/1558/22011.html
CONTACT:361-738-9942
ORGANIZER:Bruce Piehl/Doc's Knife Works
ATTACH;FMTTYPE="image/jpeg":http://storage.ning.com/topology/rest/1.0/
 file/get/2831267299?profile=original
ATTENDEE;ROLE=REQ-PARTICIPANT;PARTSTAT=ACCEPTED;RSVP=TRUE;CN="Bruce Pi
 ehl":https://iknifecollector.com/profile/brucepiehl
END:VEVENT
END:VCALENDAR
