BEGIN:VCALENDAR
PRODID:NingEventWidget-v1
VERSION:2.0
METHOD:PUBLISH
BEGIN:VTIMEZONE
TZID:America/Chicago
X-LIC-LOCATION:America/Chicago
BEGIN:DAYLIGHT
TZOFFSETFROM:-0600
TZOFFSETTO:-0500
TZNAME:CDT
DTSTART:19700308T020000
RRULE:FREQ=YEARLY;BYMONTH=3;BYDAY=2SU
END:DAYLIGHT
BEGIN:STANDARD
TZOFFSETFROM:-0500
TZOFFSETTO:-0600
TZNAME:CST
DTSTART:19701101T020000
RRULE:FREQ=YEARLY;BYMONTH=11;BYDAY=1SU
END:STANDARD
END:VTIMEZONE
BEGIN:VEVENT
UID:3181080:Event:49237
DTSTAMP:20260424T120012Z
SUMMARY:Texas Gun and Guitar Show
DESCRIPTION:YOU DO NOT WANT TO MISS THIS SHOW!\n\n\n\n\nYou never know
  what you might find at a Texas Gun And Guitar Show!\n\nTHERE IS SOMET
 HING FOR EVERYONE!\n\n\nALL LAW ENFORCEMENT OFFICERS IN UNIFORM GET IN
  FREE!\n\n\n\nVisit us on MySpace at\nAll proceeds benefitting the Tex
 as Musicians Museum\n\nFor more information visit https://iknifecollec
 tor.com/events/texas-gun-and-guitar-show
DTSTART;TZID=America/Chicago:20090925T140000
DTEND;TZID=America/Chicago:20090927T160000
CATEGORIES:gun, and, knife, show, with, a, few, "guitars."
LOCATION:The Hillsboro Civic Center
WEBSITE:http://www.texasgunandguitarshow.com/
URL:http://www.texasgunandguitarshow.com/
CONTACT:245-580-9780
ORGANIZER:Texas Musicians Museum
ATTACH;FMTTYPE="image/jpeg":http://storage.ning.com/topology/rest/1.0/
 file/get/2831235498?profile=original
ATTENDEE;ROLE=REQ-PARTICIPANT;PARTSTAT=ACCEPTED;RSVP=TRUE;CN="Bruce Pi
 ehl":https://iknifecollector.com/profile/brucepiehl
END:VEVENT
END:VCALENDAR
