BEGIN:VCALENDAR
PRODID:NingEventWidget-v1
VERSION:2.0
METHOD:PUBLISH
BEGIN:VTIMEZONE
TZID:America/Chicago
X-LIC-LOCATION:America/Chicago
BEGIN:DAYLIGHT
TZOFFSETFROM:-0600
TZOFFSETTO:-0500
TZNAME:CDT
DTSTART:19700308T020000
RRULE:FREQ=YEARLY;BYMONTH=3;BYDAY=2SU
END:DAYLIGHT
BEGIN:STANDARD
TZOFFSETFROM:-0500
TZOFFSETTO:-0600
TZNAME:CST
DTSTART:19701101T020000
RRULE:FREQ=YEARLY;BYMONTH=11;BYDAY=1SU
END:STANDARD
END:VTIMEZONE
BEGIN:VEVENT
UID:3181080:Event:1203282
DTSTAMP:20260425T205325Z
SUMMARY:Texas Knife Makers Association Organizational meeting
DESCRIPTION:\n\nFor more information visit https://iknifecollector.com
 /events/texas-knife-makers-association-organizational-meeting
DTSTART;TZID=America/Chicago:20141025T171500
DTEND;TZID=America/Chicago:20141025T180000
CATEGORIES:organizational, meeting
LOCATION:Amon Carter Exhibit Hall
WEBSITE:http://iknifecollector.com/forum/topics/starting-the-new-texas
 -knifemakers-association?commentId=3181080%3AComment%3A1203370&xg_sour
 ce=activity
URL:http://iknifecollector.com/forum/topics/starting-the-new-texas-kni
 femakers-association?commentId=3181080%3AComment%3A1203370&xg_source=a
 ctivity
CONTACT:
ORGANIZER:Vance Hinds
ATTACH;FMTTYPE="image/jpeg":
ATTENDEE;ROLE=REQ-PARTICIPANT;PARTSTAT=ACCEPTED;RSVP=TRUE;CN="david ki
 llingsworth":https://iknifecollector.com/profile/davidkillingsworth
ATTENDEE;ROLE=REQ-PARTICIPANT;PARTSTAT=ACCEPTED;RSVP=TRUE;CN="Thomas K
 illingsworth":https://iknifecollector.com/profile/ThomasKillingsworth
ATTENDEE;ROLE=REQ-PARTICIPANT;PARTSTAT=ACCEPTED;RSVP=TRUE;CN="Lanse De
 rrick":https://iknifecollector.com/profile/LanseDerrick
ATTENDEE;ROLE=REQ-PARTICIPANT;PARTSTAT=ACCEPTED;RSVP=TRUE;CN="Vance Wa
 de Hinds":https://iknifecollector.com/profile/VanceWadeHinds
ATTENDEE;ROLE=REQ-PARTICIPANT;PARTSTAT=ACCEPTED;RSVP=TRUE;CN="Jan Cart
 er":https://iknifecollector.com/profile/JanCarter
END:VEVENT
END:VCALENDAR
