BEGIN:VCALENDAR
PRODID:NingEventWidget-v1
VERSION:2.0
METHOD:PUBLISH
BEGIN:VTIMEZONE
TZID:America/Chicago
X-LIC-LOCATION:America/Chicago
BEGIN:DAYLIGHT
TZOFFSETFROM:-0600
TZOFFSETTO:-0500
TZNAME:CDT
DTSTART:19700308T020000
RRULE:FREQ=YEARLY;BYMONTH=3;BYDAY=2SU
END:DAYLIGHT
BEGIN:STANDARD
TZOFFSETFROM:-0500
TZOFFSETTO:-0600
TZNAME:CST
DTSTART:19701101T020000
RRULE:FREQ=YEARLY;BYMONTH=11;BYDAY=1SU
END:STANDARD
END:VTIMEZONE
BEGIN:VEVENT
UID:3181080:Event:1712827
DTSTAMP:20260424T075318Z
SUMMARY:Texas Select Custom Cutlery Event * TX
DESCRIPTION:The Texas Select Custom Cutlery Event features knifemaker
 s from all across the US.\r\nHosted by Phenix Knives at the Austin 
 County Fair Convention & Expo center in Bellville, TX (about an hour 
 from Houston, TX), we proudly present the largest organized gathering 
 of custom knifemakers in the greater Houston area.\n\nFor more informa
 tion visit https://iknifecollector.com/events/texas-select-custom-cutl
 ery-event-tx-1
DTSTART;TZID=America/Chicago:20230401T180000
DTEND;TZID=America/Chicago:20230402T190000
CATEGORIES:knife, forging, show
LOCATION:Austin County Fair Convention &amp; Expo
WEBSITE:https://www.texasselectevent.com/
URL:https://www.texasselectevent.com/
CONTACT:
ORGANIZER;CN="Jan Carter":https://iknifecollector.com/profile/JanCarte
 r
ATTACH;FMTTYPE="image/jpeg":https://storage.ning.com/topology/rest/1.0
 /file/get/10994666899?profile=original
ATTENDEE;ROLE=REQ-PARTICIPANT;PARTSTAT=ACCEPTED;RSVP=TRUE;CN="Jan Cart
 er":https://iknifecollector.com/profile/JanCarter
END:VEVENT
END:VCALENDAR
