BEGIN:VCALENDAR
PRODID:NingEventWidget-v1
VERSION:2.0
METHOD:PUBLISH
BEGIN:VTIMEZONE
TZID:America/Chicago
X-LIC-LOCATION:America/Chicago
BEGIN:DAYLIGHT
TZOFFSETFROM:-0600
TZOFFSETTO:-0500
TZNAME:CDT
DTSTART:19700308T020000
RRULE:FREQ=YEARLY;BYMONTH=3;BYDAY=2SU
END:DAYLIGHT
BEGIN:STANDARD
TZOFFSETFROM:-0500
TZOFFSETTO:-0600
TZNAME:CST
DTSTART:19701101T020000
RRULE:FREQ=YEARLY;BYMONTH=11;BYDAY=1SU
END:STANDARD
END:VTIMEZONE
BEGIN:VEVENT
UID:3181080:Event:1581711
DTSTAMP:20260422T124426Z
SUMMARY:Texas Select from Forged in Fire
DESCRIPTION:Cowboy Szymanski (1st season Forged in Fire) invites the
  public to meet and interact with 25 of his fellow Forged in Fire blad
 esmiths. This event will be hosted at Phenix Knives (9am – 4pm) loca
 ted in the historic 1891 blacksmith shop at 305 E. Main St. in Bellvil
 le, TX 77418.\r\nTexas has the distinction of producing more competito
 rs and champions on Forged in Fire than any other state. Visitors will
  have the opportunity to see live demonstrations by many Forged in F
 ire notable bladesmiths, visit with them about their work, get picture
 s and autographs, purchase forged knives, as well as tour the blacksmi
 th shop and Carriage House (the 1896 E.O. Finn building) next door. \
 n\nFor more information visit https://iknifecollector.com/events/texas
 -select-from-forged-in-fire
DTSTART;TZID=America/Chicago:20190406T180000
DTEND;TZID=America/Chicago:20190407T190000
CATEGORIES:forged, knife, shows
LOCATION:PHENIX KNIVES BLACKSMITH SHOP
WEBSITE:http://www.phenixknives.com/texas-select-from-forged-in-fire/
URL:http://www.phenixknives.com/texas-select-from-forged-in-fire/
CONTACT:
ORGANIZER:Phenix Knives
ATTACH;FMTTYPE="image/jpeg":https://storage.ning.com/topology/rest/1.0
 /file/get/962247404?profile=original
END:VEVENT
END:VCALENDAR
