BEGIN:VCALENDAR
PRODID:NingEventWidget-v1
VERSION:2.0
METHOD:PUBLISH
BEGIN:VTIMEZONE
TZID:America/Chicago
X-LIC-LOCATION:America/Chicago
BEGIN:DAYLIGHT
TZOFFSETFROM:-0600
TZOFFSETTO:-0500
TZNAME:CDT
DTSTART:19700308T020000
RRULE:FREQ=YEARLY;BYMONTH=3;BYDAY=2SU
END:DAYLIGHT
BEGIN:STANDARD
TZOFFSETFROM:-0500
TZOFFSETTO:-0600
TZNAME:CST
DTSTART:19701101T020000
RRULE:FREQ=YEARLY;BYMONTH=11;BYDAY=1SU
END:STANDARD
END:VTIMEZONE
BEGIN:VEVENT
UID:3181080:Event:468881
DTSTAMP:20260424T133843Z
SUMMARY:the 12the annual Belgian Knife Days
DESCRIPTION:http://img219.imageshack.us/img219/6713/affiche2011fr.jpg\
 n\nFor more information visit https://iknifecollector.com/events/the-1
 2the-annual-belgian-knife-days
DTSTART;TZID=America/Chicago:20111111T190000
DTEND;TZID=America/Chicago:20111113T170000
CATEGORIES:the, belgian, knife, show
LOCATION:Foyer Communal
WEBSITE:http://www.belgiaknifesociety.com
URL:http://www.belgiaknifesociety.com
CONTACT:
ORGANIZER:The Belia Knife Society
ATTACH;FMTTYPE="image/jpeg":
ATTENDEE;ROLE=REQ-PARTICIPANT;PARTSTAT=ACCEPTED;RSVP=TRUE;CN="Jan Dox"
 :https://iknifecollector.com/profile/JanDox
END:VEVENT
END:VCALENDAR
