BEGIN:VCALENDAR
PRODID:NingEventWidget-v1
VERSION:2.0
METHOD:PUBLISH
BEGIN:VTIMEZONE
TZID:America/Chicago
X-LIC-LOCATION:America/Chicago
BEGIN:DAYLIGHT
TZOFFSETFROM:-0600
TZOFFSETTO:-0500
TZNAME:CDT
DTSTART:19700308T020000
RRULE:FREQ=YEARLY;BYMONTH=3;BYDAY=2SU
END:DAYLIGHT
BEGIN:STANDARD
TZOFFSETFROM:-0500
TZOFFSETTO:-0600
TZNAME:CST
DTSTART:19701101T020000
RRULE:FREQ=YEARLY;BYMONTH=11;BYDAY=1SU
END:STANDARD
END:VTIMEZONE
BEGIN:VEVENT
UID:3181080:Event:1453067
DTSTAMP:20260423T204242Z
SUMMARY:The Art of Steel Knife Show (AR)
DESCRIPTION:Cutting Contest\nSaturday, February 18, 2017 at 1 p.m.Wall
 y Allen BallroomStatehouse Convention Center\n\nFor more information v
 isit https://iknifecollector.com/events/the-art-of-steel-knife-show-ar
DTSTART;TZID=America/Chicago:20170218T000000
DTEND;TZID=America/Chicago:20170219T235900
CATEGORIES:k
LOCATION:Statehouse Convention Center
WEBSITE:http://theartofsteelar.com/
URL:http://theartofsteelar.com/
CONTACT:
ORGANIZER;CN="Jan Carter":https://iknifecollector.com/profile/JanCarte
 r
ATTACH;FMTTYPE="image/jpeg":
END:VEVENT
END:VCALENDAR
