BEGIN:VCALENDAR
PRODID:NingEventWidget-v1
VERSION:2.0
METHOD:PUBLISH
BEGIN:VTIMEZONE
TZID:America/Chicago
X-LIC-LOCATION:America/Chicago
BEGIN:DAYLIGHT
TZOFFSETFROM:-0600
TZOFFSETTO:-0500
TZNAME:CDT
DTSTART:19700308T020000
RRULE:FREQ=YEARLY;BYMONTH=3;BYDAY=2SU
END:DAYLIGHT
BEGIN:STANDARD
TZOFFSETFROM:-0500
TZOFFSETTO:-0600
TZNAME:CST
DTSTART:19701101T020000
RRULE:FREQ=YEARLY;BYMONTH=11;BYDAY=1SU
END:STANDARD
END:VTIMEZONE
BEGIN:VEVENT
UID:3181080:Event:1452897
DTSTAMP:20260423T172450Z
SUMMARY:The Australian Blade Symposium
DESCRIPTION: \nBrings together the very best of knife making in Austr
 alia. If you have an interest in edged tools and how they are made, th
 en this is the premier event.From the beginner to the advanced, the Sy
 mposium will have something for everyone. Watch some of Australia’s 
 very best knife makers and blade smiths as they share their secrets to
  manufacturing the perfect knife. See blades get forged and ground and
  learn the intricacies of the heat treat. Learn to fit handles and new
  methods to finish your blades. The Symposium consists of around 30, 1
 .5 hour sessions on a broad range of subjects and participants can vie
 w 8 of these over the weekend according to their specific interest. Fr
 om beginner to advance there is something to see for everyone.Over 20 
 specialized demonstrators and held at the fantastic Eveleigh Locomotiv
 e Blacksmithing Workshops. Meet other knife makers and blade smiths an
 d share your experiences. Get involved in the social dinner on Saturda
 y night, held inside the amazing workshop, surrounded by hundreds of t
 ons of Victorian era blacksmithing equipment.\n\n\nFor more informatio
 n visit https://iknifecollector.com/events/the-australian-blade-sympos
 ium
DTSTART;TZID=America/Chicago:20170311T000000
DTEND;TZID=America/Chicago:20170312T235900
CATEGORIES:knife, making, workshop
LOCATION:Eveleigh blacksmith workshop
WEBSITE:http://bladesymposium.com/
URL:http://bladesymposium.com/
CONTACT:
ORGANIZER;CN="Jan Carter":https://iknifecollector.com/profile/JanCarte
 r
ATTACH;FMTTYPE="image/jpeg":http://storage.ning.com/topology/rest/1.0/
 file/get/2831493636?profile=original
END:VEVENT
END:VCALENDAR
