BEGIN:VCALENDAR
PRODID:NingEventWidget-v1
VERSION:2.0
METHOD:PUBLISH
BEGIN:VTIMEZONE
TZID:America/Chicago
X-LIC-LOCATION:America/Chicago
BEGIN:DAYLIGHT
TZOFFSETFROM:-0600
TZOFFSETTO:-0500
TZNAME:CDT
DTSTART:19700308T020000
RRULE:FREQ=YEARLY;BYMONTH=3;BYDAY=2SU
END:DAYLIGHT
BEGIN:STANDARD
TZOFFSETFROM:-0500
TZOFFSETTO:-0600
TZNAME:CST
DTSTART:19701101T020000
RRULE:FREQ=YEARLY;BYMONTH=11;BYDAY=1SU
END:STANDARD
END:VTIMEZONE
BEGIN:VEVENT
UID:3181080:Event:797054
DTSTAMP:20260422T220843Z
SUMMARY:The Australian Knifemakers Guild Melbourne Knife Show
DESCRIPTION:View and Purchase some of the best Handmade knives in Aust
 ralia by Australian Members\n\nFor more information visit https://ikni
 fecollector.com/events/the-australian-knifemakers-guild-melbourne-knif
 e-show
DTSTART;TZID=America/Chicago:20130504T000000
DTEND;TZID=America/Chicago:20130505T235900
CATEGORIES:knife, show
LOCATION:Knife Show
WEBSITE:http://customknifecollectorsassociation.com/Events.html
URL:http://customknifecollectorsassociation.com/Events.html
CONTACT:
ORGANIZER;CN="Jan Carter":https://iknifecollector.com/profile/JanCarte
 r
ATTACH;FMTTYPE="image/jpeg":
ATTENDEE;ROLE=REQ-PARTICIPANT;PARTSTAT=ACCEPTED;RSVP=TRUE;CN="Jan Cart
 er":https://iknifecollector.com/profile/JanCarter
END:VEVENT
END:VCALENDAR
