BEGIN:VCALENDAR
PRODID:NingEventWidget-v1
VERSION:2.0
METHOD:PUBLISH
BEGIN:VTIMEZONE
TZID:America/Chicago
X-LIC-LOCATION:America/Chicago
BEGIN:DAYLIGHT
TZOFFSETFROM:-0600
TZOFFSETTO:-0500
TZNAME:CDT
DTSTART:19700308T020000
RRULE:FREQ=YEARLY;BYMONTH=3;BYDAY=2SU
END:DAYLIGHT
BEGIN:STANDARD
TZOFFSETFROM:-0500
TZOFFSETTO:-0600
TZNAME:CST
DTSTART:19701101T020000
RRULE:FREQ=YEARLY;BYMONTH=11;BYDAY=1SU
END:STANDARD
END:VTIMEZONE
BEGIN:VEVENT
UID:3181080:Event:761619
DTSTAMP:20260422T200358Z
SUMMARY:THE BLADE SHOW
DESCRIPTION:\nBLADE Magazine is proud to present theworld’s LARGEST
  knife show, featuring the most diverse array of knife manufacturers, 
 custom knifemakers, collections and products under one roof. \n \nFo
 r 3 days, we will give you the very best of the knife-making and knife
 -collecting industries--—nearly 700 tables and over 200factory bo
 oths and thousands of products—as well as unique educational seminar
 s and edge-of-seat fun at the BladeSports International Competitions
 !\nIn addition, we've got the Blade Magazine Knife of the Year® award
 s, Blade Magazine Cutlery Hall of Fame© induction, the annual ABS mee
 ting, the 10th Anniversary BLADE Show World Championship Cutting Com
 petition, forging\n\nFor more information visit https://iknifecollecto
 r.com/events/the-blade-show-2
DTSTART;TZID=America/Chicago:20130531T000000
DTEND;TZID=America/Chicago:20130602T235900
CATEGORIES:knife, show
LOCATION:COBB GALLERIA CENTRE, ATLANTA, GA
WEBSITE:http://www.bladeshow.com/ehome/index.php?eventid=31379&
URL:http://www.bladeshow.com/ehome/index.php?eventid=31379&
CONTACT:
ORGANIZER;CN="Jan Carter":https://iknifecollector.com/profile/JanCarte
 r
ATTACH;FMTTYPE="image/jpeg":
ATTENDEE;ROLE=REQ-PARTICIPANT;PARTSTAT=ACCEPTED;RSVP=TRUE;CN="Greg Das
 h":https://iknifecollector.com/profile/GregDash
ATTENDEE;ROLE=REQ-PARTICIPANT;PARTSTAT=ACCEPTED;RSVP=TRUE;CN="Jan Cart
 er":https://iknifecollector.com/profile/JanCarter
ATTENDEE;ROLE=REQ-PARTICIPANT;PARTSTAT=TENTATIVE;RSVP=TRUE;CN="Derek B
 odford":https://iknifecollector.com/profile/DerekBodford
END:VEVENT
END:VCALENDAR
