BEGIN:VCALENDAR
PRODID:NingEventWidget-v1
VERSION:2.0
METHOD:PUBLISH
BEGIN:VTIMEZONE
TZID:America/Chicago
X-LIC-LOCATION:America/Chicago
BEGIN:DAYLIGHT
TZOFFSETFROM:-0600
TZOFFSETTO:-0500
TZNAME:CDT
DTSTART:19700308T020000
RRULE:FREQ=YEARLY;BYMONTH=3;BYDAY=2SU
END:DAYLIGHT
BEGIN:STANDARD
TZOFFSETFROM:-0500
TZOFFSETTO:-0600
TZNAME:CST
DTSTART:19701101T020000
RRULE:FREQ=YEARLY;BYMONTH=11;BYDAY=1SU
END:STANDARD
END:VTIMEZONE
BEGIN:VEVENT
UID:3181080:Event:1213892
DTSTAMP:20260425T195103Z
SUMMARY:The Dagger of Admiral D'Estaing
DESCRIPTION:\n\nFor more information visit https://iknifecollector.com
 /events/the-dagger-of-admiral-d-estaing
DTSTART;TZID=America/Chicago:20141029T210000
DTEND;TZID=America/Chicago:20141029T213000
CATEGORIES:live, learning, is, fun, chat
LOCATION:http://iknifecollector.com/chat
WEBSITE:http://iknifecollector.com/chat
URL:http://iknifecollector.com/chat
CONTACT:
ORGANIZER;CN="Jan Carter":https://iknifecollector.com/profile/JanCarte
 r
ATTACH;FMTTYPE="image/jpeg":http://storage.ning.com/topology/rest/1.0/
 file/get/2831477416?profile=original
ATTENDEE;ROLE=REQ-PARTICIPANT;PARTSTAT=ACCEPTED;RSVP=TRUE;CN="Bruce Mc
 Lain":https://iknifecollector.com/profile/BruceMcLain
ATTENDEE;ROLE=REQ-PARTICIPANT;PARTSTAT=ACCEPTED;RSVP=TRUE;CN="Jeffrey 
 Allan Barb":https://iknifecollector.com/profile/JeffreyAllanBarb
ATTENDEE;ROLE=REQ-PARTICIPANT;PARTSTAT=ACCEPTED;RSVP=TRUE;CN="Jan Cart
 er":https://iknifecollector.com/profile/JanCarter
ATTENDEE;ROLE=REQ-PARTICIPANT;PARTSTAT=TENTATIVE;RSVP=TRUE;CN="Tobias 
 Gibson":https://iknifecollector.com/profile/TobiasGibson
END:VEVENT
END:VCALENDAR
