BEGIN:VCALENDAR
PRODID:NingEventWidget-v1
VERSION:2.0
METHOD:PUBLISH
BEGIN:VTIMEZONE
TZID:America/Chicago
X-LIC-LOCATION:America/Chicago
BEGIN:DAYLIGHT
TZOFFSETFROM:-0600
TZOFFSETTO:-0500
TZNAME:CDT
DTSTART:19700308T020000
RRULE:FREQ=YEARLY;BYMONTH=3;BYDAY=2SU
END:DAYLIGHT
BEGIN:STANDARD
TZOFFSETFROM:-0500
TZOFFSETTO:-0600
TZNAME:CST
DTSTART:19701101T020000
RRULE:FREQ=YEARLY;BYMONTH=11;BYDAY=1SU
END:STANDARD
END:VTIMEZONE
BEGIN:VEVENT
UID:3181080:Event:526378
DTSTAMP:20260422T095414Z
SUMMARY:The Dalton GA Knife Road Show
DESCRIPTION:National Knife Collectors Association Sanctioned Show.  O
 pens to exhibitors at 9 a.m. Friday. Opens to public at 12 noon.8 to E
 xhibitors on Saturday-9 to the public. Closes at 5 p.m.Sunday 8 to exh
 ibitors, 9 to the public, closes at 3 p.m.\n\nFor more information vis
 it https://iknifecollector.com/events/the-dalton-ga-knife-road-show
DTSTART;TZID=America/Chicago:20120309T000000
DTEND;TZID=America/Chicago:20120311T235900
CATEGORIES:knife, collectors, show
LOCATION:N. W. GA. Trade and Convention Center
WEBSITE:http://www.spiritofsteel.com/
URL:http://www.spiritofsteel.com/
CONTACT:
ORGANIZER;CN="Jan Carter":https://iknifecollector.com/profile/JanCarte
 r
ATTACH;FMTTYPE="image/jpeg":
ATTENDEE;ROLE=REQ-PARTICIPANT;PARTSTAT=ACCEPTED;RSVP=TRUE;CN="Gary Ken
 nedy":https://iknifecollector.com/profile/GaryKennedy
ATTENDEE;ROLE=REQ-PARTICIPANT;PARTSTAT=ACCEPTED;RSVP=TRUE;CN="Roger Cu
 nningham":https://iknifecollector.com/profile/RogerCunningham
ATTENDEE;ROLE=REQ-PARTICIPANT;PARTSTAT=ACCEPTED;RSVP=TRUE;CN="Jan Cart
 er":https://iknifecollector.com/profile/JanCarter
END:VEVENT
END:VCALENDAR
