BEGIN:VCALENDAR
PRODID:NingEventWidget-v1
VERSION:2.0
METHOD:PUBLISH
BEGIN:VTIMEZONE
TZID:America/Chicago
X-LIC-LOCATION:America/Chicago
BEGIN:DAYLIGHT
TZOFFSETFROM:-0600
TZOFFSETTO:-0500
TZNAME:CDT
DTSTART:19700308T020000
RRULE:FREQ=YEARLY;BYMONTH=3;BYDAY=2SU
END:DAYLIGHT
BEGIN:STANDARD
TZOFFSETFROM:-0500
TZOFFSETTO:-0600
TZNAME:CST
DTSTART:19701101T020000
RRULE:FREQ=YEARLY;BYMONTH=11;BYDAY=1SU
END:STANDARD
END:VTIMEZONE
BEGIN:VEVENT
UID:3181080:Event:797145
DTSTAMP:20260423T035438Z
SUMMARY:The Dalton GA Knife Roadshow *GA*
DESCRIPTION:Bruce Voyles Knife Show\r\niKC meeting place\r\nThe show i
 s postponed and will be held at a date to be announced.-19 virus, the 
 Dalton Knife Show will NOT be held March 27, 28, 2020.\n\nFor more inf
 ormation visit https://iknifecollector.com/events/the-dalton-ga-knife-
 roadshow
DTSTART;TZID=America/Chicago:20200327T000000
DTEND;TZID=America/Chicago:20200328T235900
CATEGORIES:knife, show
LOCATION:NW Ga trade and convention center
WEBSITE:http://www.jbrucevoyles.com/
URL:http://www.jbrucevoyles.com/
CONTACT:
ORGANIZER:knifeauctions@gmail.com
ATTACH;FMTTYPE="image/jpeg":
ATTENDEE;ROLE=REQ-PARTICIPANT;PARTSTAT=ACCEPTED;RSVP=TRUE;CN="Jan Cart
 er":https://iknifecollector.com/profile/JanCarter
ATTENDEE;ROLE=REQ-PARTICIPANT;PARTSTAT=ACCEPTED;RSVP=TRUE;CN="Roger Cu
 nningham":https://iknifecollector.com/profile/RogerCunningham
ATTENDEE;ROLE=REQ-PARTICIPANT;PARTSTAT=ACCEPTED;RSVP=TRUE;CN="J.J. Smi
 th III":https://iknifecollector.com/profile/JohnJSmithIII
ATTENDEE;ROLE=REQ-PARTICIPANT;PARTSTAT=ACCEPTED;RSVP=TRUE;CN="Gary Ken
 nedy":https://iknifecollector.com/profile/GaryKennedy
END:VEVENT
END:VCALENDAR
