BEGIN:VCALENDAR
PRODID:NingEventWidget-v1
VERSION:2.0
METHOD:PUBLISH
BEGIN:VTIMEZONE
TZID:America/Chicago
X-LIC-LOCATION:America/Chicago
BEGIN:DAYLIGHT
TZOFFSETFROM:-0600
TZOFFSETTO:-0500
TZNAME:CDT
DTSTART:19700308T020000
RRULE:FREQ=YEARLY;BYMONTH=3;BYDAY=2SU
END:DAYLIGHT
BEGIN:STANDARD
TZOFFSETFROM:-0500
TZOFFSETTO:-0600
TZNAME:CST
DTSTART:19701101T020000
RRULE:FREQ=YEARLY;BYMONTH=11;BYDAY=1SU
END:STANDARD
END:VTIMEZONE
BEGIN:VEVENT
UID:3181080:Event:484674
DTSTAMP:20260424T133755Z
SUMMARY:The Dixie Gun and Knife Classic Shows
DESCRIPTION:Get a dollar off entrance by going to the website\n \n800
 + 8ft tables\n\nFor more information visit https://iknifecollector.com
 /events/the-dixie-gun-and-knife-classic-shows
DTSTART;TZID=America/Chicago:20111119T000000
DTEND;TZID=America/Chicago:20111120T235900
CATEGORIES:gun, and, knife, show
LOCATION:NC State Fairgrounds
WEBSITE:http://dixiegunandknifeshow.com/pages/Raleigh-Show.html
URL:http://dixiegunandknifeshow.com/pages/Raleigh-Show.html
CONTACT:
ORGANIZER:
ATTACH;FMTTYPE="image/jpeg":
ATTENDEE;ROLE=REQ-PARTICIPANT;PARTSTAT=ACCEPTED;RSVP=TRUE;CN="Jan Cart
 er":https://iknifecollector.com/profile/JanCarter
END:VEVENT
END:VCALENDAR
