BEGIN:VCALENDAR
PRODID:NingEventWidget-v1
VERSION:2.0
METHOD:PUBLISH
BEGIN:VTIMEZONE
TZID:America/Chicago
X-LIC-LOCATION:America/Chicago
BEGIN:DAYLIGHT
TZOFFSETFROM:-0600
TZOFFSETTO:-0500
TZNAME:CDT
DTSTART:19700308T020000
RRULE:FREQ=YEARLY;BYMONTH=3;BYDAY=2SU
END:DAYLIGHT
BEGIN:STANDARD
TZOFFSETFROM:-0500
TZOFFSETTO:-0600
TZNAME:CST
DTSTART:19701101T020000
RRULE:FREQ=YEARLY;BYMONTH=11;BYDAY=1SU
END:STANDARD
END:VTIMEZONE
BEGIN:VEVENT
UID:3181080:Event:761623
DTSTAMP:20260422T200358Z
SUMMARY:The Dover Show
DESCRIPTION:Western Reserve Cutlery Association is proud to again spon
 sor The Dale Warther Memorial Knife Expo, March 2-3, 2013.  Over 80 
 tables of factory knives, custom knives, new and antique collections a
 nd displays.  Demonstrations, raffles and prize drawings throughout t
 he show.\n\nFor more information visit https://iknifecollector.com/eve
 nts/the-dover-show
DTSTART;TZID=America/Chicago:20130406T000000
DTEND;TZID=America/Chicago:20130407T235900
CATEGORIES:knife, show
LOCATION:The Dover Show
WEBSITE:http://wrca-oh.com/blog/
URL:http://wrca-oh.com/blog/
CONTACT:
ORGANIZER;CN="Jan Carter":https://iknifecollector.com/profile/JanCarte
 r
ATTACH;FMTTYPE="image/jpeg":
ATTENDEE;ROLE=REQ-PARTICIPANT;PARTSTAT=ACCEPTED;RSVP=TRUE;CN="Jan Cart
 er":https://iknifecollector.com/profile/JanCarter
END:VEVENT
END:VCALENDAR
