BEGIN:VCALENDAR
PRODID:NingEventWidget-v1
VERSION:2.0
METHOD:PUBLISH
BEGIN:VTIMEZONE
TZID:America/Chicago
X-LIC-LOCATION:America/Chicago
BEGIN:DAYLIGHT
TZOFFSETFROM:-0600
TZOFFSETTO:-0500
TZNAME:CDT
DTSTART:19700308T020000
RRULE:FREQ=YEARLY;BYMONTH=3;BYDAY=2SU
END:DAYLIGHT
BEGIN:STANDARD
TZOFFSETFROM:-0500
TZOFFSETTO:-0600
TZNAME:CST
DTSTART:19701101T020000
RRULE:FREQ=YEARLY;BYMONTH=11;BYDAY=1SU
END:STANDARD
END:VTIMEZONE
BEGIN:VEVENT
UID:3181080:Event:1040361
DTSTAMP:20260424T170743Z
SUMMARY:The fifth international HELSINKI KNIFE SHOW
DESCRIPTION:Helsinki Knife Show is an international custom knife sales
  exhibition Organised by the Scandinavian Knifemakers Guild .\n\nFor
  more information visit https://iknifecollector.com/events/the-fifth-i
 nternational-helsinki-knife-show
DTSTART;TZID=America/Chicago:20140103T000000
DTEND;TZID=America/Chicago:20140104T235900
CATEGORIES:knife, show
LOCATION:Fowler Hotel , in Helsinki, Finland
WEBSITE:http://www.helsinkiknifeshow.com/
URL:http://www.helsinkiknifeshow.com/
CONTACT:
ORGANIZER;CN="Jan Carter":https://iknifecollector.com/profile/JanCarte
 r
ATTACH;FMTTYPE="image/jpeg":
ATTENDEE;ROLE=REQ-PARTICIPANT;PARTSTAT=ACCEPTED;RSVP=TRUE;CN="Jan Cart
 er":https://iknifecollector.com/profile/JanCarter
END:VEVENT
END:VCALENDAR
