BEGIN:VCALENDAR
PRODID:NingEventWidget-v1
VERSION:2.0
METHOD:PUBLISH
BEGIN:VTIMEZONE
TZID:America/Chicago
X-LIC-LOCATION:America/Chicago
BEGIN:DAYLIGHT
TZOFFSETFROM:-0600
TZOFFSETTO:-0500
TZNAME:CDT
DTSTART:19700308T020000
RRULE:FREQ=YEARLY;BYMONTH=3;BYDAY=2SU
END:DAYLIGHT
BEGIN:STANDARD
TZOFFSETFROM:-0500
TZOFFSETTO:-0600
TZNAME:CST
DTSTART:19701101T020000
RRULE:FREQ=YEARLY;BYMONTH=11;BYDAY=1SU
END:STANDARD
END:VTIMEZONE
BEGIN:VEVENT
UID:3181080:Event:1039607
DTSTAMP:20260424T182237Z
SUMMARY:The first Chat of the New Year
DESCRIPTION:Come join us as we Learn about Frank Buster and the Fight'
 n Rooster Brand he made famous\n\nFor more information visit https://i
 knifecollector.com/events/the-first-chat-of-the-new-year
DTSTART;TZID=America/Chicago:20140108T210000
DTEND;TZID=America/Chicago:20140108T220000
CATEGORIES:information, chat
LOCATION:iKnifeCollector Chatroom
WEBSITE:http://www.iknifecollector.com/chat
URL:http://www.iknifecollector.com/chat
CONTACT:
ORGANIZER;CN="Jan Carter":https://iknifecollector.com/profile/JanCarte
 r
ATTACH;FMTTYPE="image/jpeg":http://storage.ning.com/topology/rest/1.0/
 file/get/2831435952?profile=original
ATTENDEE;ROLE=REQ-PARTICIPANT;PARTSTAT=ACCEPTED;RSVP=TRUE;CN="Ricky L 
 McConnell":https://iknifecollector.com/profile/RickyLMcConnell
ATTENDEE;ROLE=REQ-PARTICIPANT;PARTSTAT=ACCEPTED;RSVP=TRUE;CN="Jan Cart
 er":https://iknifecollector.com/profile/JanCarter
ATTENDEE;ROLE=REQ-PARTICIPANT;PARTSTAT=TENTATIVE;RSVP=TRUE;CN="James D
 . Lenartz":https://iknifecollector.com/profile/JamesDLenartz
ATTENDEE;ROLE=REQ-PARTICIPANT;PARTSTAT=TENTATIVE;RSVP=TRUE;CN="William
  Shafer":https://iknifecollector.com/profile/BillShafer
ATTENDEE;ROLE=REQ-PARTICIPANT;PARTSTAT=TENTATIVE;RSVP=TRUE;CN="Claes W
 allgren":https://iknifecollector.com/profile/ClaesWallgren
ATTENDEE;ROLE=REQ-PARTICIPANT;PARTSTAT=TENTATIVE;RSVP=TRUE;CN="Mike Br
 yant":https://iknifecollector.com/profile/MikeBryant
ATTENDEE;ROLE=REQ-PARTICIPANT;PARTSTAT=TENTATIVE;RSVP=TRUE;CN="Guy Fle
 etwood":https://iknifecollector.com/profile/GuyFleetwood
END:VEVENT
END:VCALENDAR
