BEGIN:VCALENDAR
PRODID:NingEventWidget-v1
VERSION:2.0
METHOD:PUBLISH
BEGIN:VTIMEZONE
TZID:America/Chicago
X-LIC-LOCATION:America/Chicago
BEGIN:DAYLIGHT
TZOFFSETFROM:-0600
TZOFFSETTO:-0500
TZNAME:CDT
DTSTART:19700308T020000
RRULE:FREQ=YEARLY;BYMONTH=3;BYDAY=2SU
END:DAYLIGHT
BEGIN:STANDARD
TZOFFSETFROM:-0500
TZOFFSETTO:-0600
TZNAME:CST
DTSTART:19701101T020000
RRULE:FREQ=YEARLY;BYMONTH=11;BYDAY=1SU
END:STANDARD
END:VTIMEZONE
BEGIN:VEVENT
UID:3181080:Event:1053860
DTSTAMP:20260424T185132Z
SUMMARY:The History of WR Case and Related Companies
DESCRIPTION:\n\nFor more information visit https://iknifecollector.com
 /events/the-history-of-wr-case-and-related-companies
DTSTART;TZID=America/Chicago:20140122T210000
DTEND;TZID=America/Chicago:20140122T220000
CATEGORIES:an, iknifecollector, information, chat
LOCATION:http://www.iknifecollector.com/chat
WEBSITE:http://www.iknifecollector.com/chat
URL:http://www.iknifecollector.com/chat
CONTACT:
ORGANIZER;CN="Jan Carter":https://iknifecollector.com/profile/JanCarte
 r
ATTACH;FMTTYPE="image/jpeg":http://storage.ning.com/topology/rest/1.0/
 file/get/2831439982?profile=original
ATTENDEE;ROLE=REQ-PARTICIPANT;PARTSTAT=ACCEPTED;RSVP=TRUE;CN=TC:https:
 //iknifecollector.com/profile/TC
ATTENDEE;ROLE=REQ-PARTICIPANT;PARTSTAT=ACCEPTED;RSVP=TRUE;CN="Ken Spie
 lvogel":https://iknifecollector.com/profile/KenSpielvogel
ATTENDEE;ROLE=REQ-PARTICIPANT;PARTSTAT=ACCEPTED;RSVP=TRUE;CN="David Se
 lph":https://iknifecollector.com/profile/DavidSelph
ATTENDEE;ROLE=REQ-PARTICIPANT;PARTSTAT=ACCEPTED;RSVP=TRUE;CN="Rick Hoo
 per":https://iknifecollector.com/profile/RickHooper
ATTENDEE;ROLE=REQ-PARTICIPANT;PARTSTAT=ACCEPTED;RSVP=TRUE;CN="Terry Ra
 y":https://iknifecollector.com/profile/TerryRay
ATTENDEE;ROLE=REQ-PARTICIPANT;PARTSTAT=ACCEPTED;RSVP=TRUE;CN="Jan Cart
 er":https://iknifecollector.com/profile/JanCarter
ATTENDEE;ROLE=REQ-PARTICIPANT;PARTSTAT=TENTATIVE;RSVP=TRUE;CN="thomas 
 c stratton":https://iknifecollector.com/profile/thomascstratton
ATTENDEE;ROLE=REQ-PARTICIPANT;PARTSTAT=TENTATIVE;RSVP=TRUE;CN="Gary Ba
 ker":https://iknifecollector.com/profile/GaryBaker
ATTENDEE;ROLE=REQ-PARTICIPANT;PARTSTAT=TENTATIVE;RSVP=TRUE;CN="Charles
  Sample":https://iknifecollector.com/profile/CharlesSample
END:VEVENT
END:VCALENDAR
