BEGIN:VCALENDAR
PRODID:NingEventWidget-v1
VERSION:2.0
METHOD:PUBLISH
BEGIN:VTIMEZONE
TZID:America/Chicago
X-LIC-LOCATION:America/Chicago
BEGIN:DAYLIGHT
TZOFFSETFROM:-0600
TZOFFSETTO:-0500
TZNAME:CDT
DTSTART:19700308T020000
RRULE:FREQ=YEARLY;BYMONTH=3;BYDAY=2SU
END:DAYLIGHT
BEGIN:STANDARD
TZOFFSETFROM:-0500
TZOFFSETTO:-0600
TZNAME:CST
DTSTART:19701101T020000
RRULE:FREQ=YEARLY;BYMONTH=11;BYDAY=1SU
END:STANDARD
END:VTIMEZONE
BEGIN:VEVENT
UID:3181080:Event:551586
DTSTAMP:20260422T043129Z
SUMMARY:The Indy 1500  Gun & Knife Show
DESCRIPTION:We are glad you stopped to visit the official site of Worl
 d Class Gun Shows, Inc and The Indy 1500 Gun & Knife Show.  We have
  enjoyed over 25 years of organizing successful gun & knife shows an
 d this website is another way we want to make attending our shows a fu
 n and easy process.  Whether you are a visitor to the show or an exhi
 bitor interested in table space, we hope this site will help you and
  your family remain aware of our show dates, attractions and special
  features. \n   It is our goal to provide you with a safe and enj
 oyable environment to feed your interests, hobbies & professions.  W
 e believe our selection to be unmatched and our desire to make the sh
 ow safe & profitable for all in attendance is priority number one.\n
    Please mark this site as a favorite and return often.  Make su
 re to look through all of the pages listed at the left side of the pag
 e for more details and information.  Again, thank you for coming to
  our site - See you and your family at The Show!\n\nFor more informa
 tion visit https://iknifecollector.com/events/the-indy-1500-gun-knife-
 show
DTSTART;TZID=America/Chicago:20120316T000000
DTEND;TZID=America/Chicago:20120318T235900
CATEGORIES:gun, "&", knife, show
LOCATION:The Indiana State Fairgrounds
WEBSITE:http://www.indy1500.com/index2.htm
URL:http://www.indy1500.com/index2.htm
CONTACT:
ORGANIZER:
ATTACH;FMTTYPE="image/jpeg":
ATTENDEE;ROLE=REQ-PARTICIPANT;PARTSTAT=ACCEPTED;RSVP=TRUE;CN="Jan Cart
 er":https://iknifecollector.com/profile/JanCarter
END:VEVENT
END:VCALENDAR
