BEGIN:VCALENDAR
PRODID:NingEventWidget-v1
VERSION:2.0
METHOD:PUBLISH
BEGIN:VTIMEZONE
TZID:America/Chicago
X-LIC-LOCATION:America/Chicago
BEGIN:DAYLIGHT
TZOFFSETFROM:-0600
TZOFFSETTO:-0500
TZNAME:CDT
DTSTART:19700308T020000
RRULE:FREQ=YEARLY;BYMONTH=3;BYDAY=2SU
END:DAYLIGHT
BEGIN:STANDARD
TZOFFSETFROM:-0500
TZOFFSETTO:-0600
TZNAME:CST
DTSTART:19701101T020000
RRULE:FREQ=YEARLY;BYMONTH=11;BYDAY=1SU
END:STANDARD
END:VTIMEZONE
BEGIN:VEVENT
UID:3181080:Event:1581707
DTSTAMP:20260424T060427Z
SUMMARY:The International Custom Cutlery Exposition **TX**
DESCRIPTION:The show will feature American Bladesmith Society bladesm
 iths and  Knifemakers Guild makers. This will be an historic event f
 eaturing top knife makers from both organizations. \r\n The American
  Bladesmith Society and Knifemakers' Guild will be presenting knifemak
 ing seminars.   Part of mission of the ABS is education for the pre
 servation and promotion of the ancient craft of the forged blade. The
 se educational seminars are open to the public on the morning of Frida
 y, September 28th, from 9 am - 12 noon.  There is no charge for atten
 dance.\r\nPlease do not forget the new elephant ivory regulations that
  became effective on July 6, 2016.  Unless you are in full compliance
  with ALL the new provisions, you CANNOT do interstate sales of elepha
 nt ivory.\n\nFor more information visit https://iknifecollector.com/ev
 ents/the-international-custom-cutlery-exposition-tx
DTSTART;TZID=America/Chicago:20190329T180000
DTEND;TZID=America/Chicago:20190330T190000
CATEGORIES:custom, cutlery, exposition
LOCATION:the famous Fort Worth Stock Yards.
WEBSITE:https://www.icceshow.com/?trk_msg=P46FUGK9PATK99ATJ9K80E24V4&a
 mp;trk_contact=EQ0H49V4IICG5A3BSTI3S83DOG&amp;trk_sid=0GBNPMD8FPKLGMIC
 GVHB20LTF4&amp;utm_source=listrak&amp;utm_medium=email&amp;utm_term=ht
 tps%3a%2f%2fwww.icceshow.com%2f&amp;utm_campaign=Check+Out+Upcoming+Kn
 ife+Events&amp;utm_content=Feb+March+Events
URL:https://www.icceshow.com/?trk_msg=P46FUGK9PATK99ATJ9K80E24V4&amp;t
 rk_contact=EQ0H49V4IICG5A3BSTI3S83DOG&amp;trk_sid=0GBNPMD8FPKLGMICGVHB
 20LTF4&amp;utm_source=listrak&amp;utm_medium=email&amp;utm_term=https%
 3a%2f%2fwww.icceshow.com%2f&amp;utm_campaign=Check+Out+Upcoming+Knife+
 Events&amp;utm_content=Feb+March+Events
CONTACT:
ORGANIZER;CN="Jan Carter":https://iknifecollector.com/profile/JanCarte
 r
ATTACH;FMTTYPE="image/jpeg":
END:VEVENT
END:VCALENDAR
