BEGIN:VCALENDAR
PRODID:NingEventWidget-v1
VERSION:2.0
METHOD:PUBLISH
BEGIN:VTIMEZONE
TZID:America/Chicago
X-LIC-LOCATION:America/Chicago
BEGIN:DAYLIGHT
TZOFFSETFROM:-0600
TZOFFSETTO:-0500
TZNAME:CDT
DTSTART:19700308T020000
RRULE:FREQ=YEARLY;BYMONTH=3;BYDAY=2SU
END:DAYLIGHT
BEGIN:STANDARD
TZOFFSETFROM:-0500
TZOFFSETTO:-0600
TZNAME:CST
DTSTART:19701101T020000
RRULE:FREQ=YEARLY;BYMONTH=11;BYDAY=1SU
END:STANDARD
END:VTIMEZONE
BEGIN:VEVENT
UID:3181080:Event:479514
DTSTAMP:20260424T184713Z
SUMMARY:The Ohio Classic Knife Show
DESCRIPTION:Kim Breed, Field Editor at Blade Magazine will be looking 
 for knives to review!\nTim Stetzer, Editor at Large at WoodsMonkey and
  Tactical Knives will be looking for review items!\nScott Wickham, Jr,
  Senior Writer at SRI will be covering the show for SRI\nOCKS is pleas
 ed to announce SRI LIVE! outdoor vendor and demo area.  There will be
  SRI writers demonstrating articles and signing autographs\nKC105 will
  be broadcasting live Sat\n\nFor more information visit https://iknife
 collector.com/events/the-ohio-classic-knife-show
DTSTART;TZID=America/Chicago:20111022T000000
DTEND;TZID=America/Chicago:20111022T235900
CATEGORIES:knife, show
LOCATION:Pritchard-Laughlin Civic Center
WEBSITE:http://www.ohioknifeshow.com/
URL:http://www.ohioknifeshow.com/
CONTACT:740-219-1141
ORGANIZER;CN="Jan Carter":https://iknifecollector.com/profile/JanCarte
 r
ATTACH;FMTTYPE="image/jpeg":
ATTENDEE;ROLE=REQ-PARTICIPANT;PARTSTAT=ACCEPTED;RSVP=TRUE;CN="Jan Cart
 er":https://iknifecollector.com/profile/JanCarter
END:VEVENT
END:VCALENDAR
