BEGIN:VCALENDAR
PRODID:NingEventWidget-v1
VERSION:2.0
METHOD:PUBLISH
BEGIN:VTIMEZONE
TZID:America/Chicago
X-LIC-LOCATION:America/Chicago
BEGIN:DAYLIGHT
TZOFFSETFROM:-0600
TZOFFSETTO:-0500
TZNAME:CDT
DTSTART:19700308T020000
RRULE:FREQ=YEARLY;BYMONTH=3;BYDAY=2SU
END:DAYLIGHT
BEGIN:STANDARD
TZOFFSETFROM:-0500
TZOFFSETTO:-0600
TZNAME:CST
DTSTART:19701101T020000
RRULE:FREQ=YEARLY;BYMONTH=11;BYDAY=1SU
END:STANDARD
END:VTIMEZONE
BEGIN:VEVENT
UID:3181080:Event:127016
DTSTAMP:20260423T172543Z
SUMMARY:The Original Fort Worth Gun & Knife Show
DESCRIPTION:We produce the Original Fort Worth Gun Show, Mesquite Rode
 o Gun Show, Waco Gun Show and our newest, the Frisco Gun Show at the D
 r Pepper Arena.\n\nWELCOME\n\nVisitors to the Original Fort Worth Gun 
 Show and our other shows will enjoy a huge selection of firearms, ammu
 nition, shooting supplies and knives.\n\nOur dealers will have \"direc
 t from the factory\" guns as well as pre-owned and collectibles. At th
 e show you can buy, sell or trade. The gun show is more than just guns
 , you can also find a wide array of ammo, scopes, clips, reloading sup
 plies and other accessories. There are concealed carry permit instruct
 ors from whom you can purchase an off-site approved course.\n\nWe also
  have knife dealers, custom knife makers, knife-making supplies, perso
 nal defense items, militaria, cammo and western clothing.\n\nAt the ou
 r shows you can find just about everything related to hunting and shoo
 ting, and a whole lot more!\n\nNOTICE\n\nYou may bring your gun to the
  show - it must be unloaded, checked by the Police Officers at the ent
 rance, and tied with a plastic tie. NO EXCEPTIONS - including conceale
 d carry permit holders, the show is posted as such in accordance with 
 Texas laws.\n\nHISTORY\n\nOne of the first gun shows in the country, t
 he Original Fort Worth Gun Show began in the early 70's. Originally, t
 he gun show was put on by the Southside Optimist Club of Fort Worth an
 d run for them by club member Bob Norman, Michelle's father.\n\nOver t
 he years, the club chose to divest itself of the show. Michelle's fath
 er took over and continued producing it until his passing in 2005. Mic
 helle grew up with the shows and has been involved with every one sinc
 e the beginning. Tim has been with the shows since 1981.\n\nWe welcome
  you to our website, and invite you to be a part of the gun show.\n\nT
 hank you,\n\nTim & Michelle\n\nFor more information visit https://ikni
 fecollector.com/events/the-original-fort-worth-gun-1
DTSTART;TZID=America/Chicago:20100828T090000
DTEND;TZID=America/Chicago:20100829T170000
CATEGORIES:gun, "&", knife, show
LOCATION:Will Rogers Center
WEBSITE:http://www.ftworthgunshow.com/
URL:http://www.ftworthgunshow.com/
CONTACT:817-732-1194
ORGANIZER:Bruce Piehl/Doc's Knife Works
ATTACH;FMTTYPE="image/jpeg":http://storage.ning.com/topology/rest/1.0/
 file/get/2831237590?profile=original
ATTENDEE;ROLE=REQ-PARTICIPANT;PARTSTAT=ACCEPTED;RSVP=TRUE;CN="Bruce Pi
 ehl":https://iknifecollector.com/profile/brucepiehl
END:VEVENT
END:VCALENDAR
