BEGIN:VCALENDAR
PRODID:NingEventWidget-v1
VERSION:2.0
METHOD:PUBLISH
BEGIN:VTIMEZONE
TZID:America/Chicago
X-LIC-LOCATION:America/Chicago
BEGIN:DAYLIGHT
TZOFFSETFROM:-0600
TZOFFSETTO:-0500
TZNAME:CDT
DTSTART:19700308T020000
RRULE:FREQ=YEARLY;BYMONTH=3;BYDAY=2SU
END:DAYLIGHT
BEGIN:STANDARD
TZOFFSETFROM:-0500
TZOFFSETTO:-0600
TZNAME:CST
DTSTART:19701101T020000
RRULE:FREQ=YEARLY;BYMONTH=11;BYDAY=1SU
END:STANDARD
END:VTIMEZONE
BEGIN:VEVENT
UID:3181080:Event:1190852
DTSTAMP:20260425T215023Z
SUMMARY:The Original Fort Worth Gun Show
DESCRIPTION:DFW – The Original Fort Worth Gun Show Come and see us a
 t the Will Rogers center. With over 1,200 TABLES, we are proud to be F
 ort Worth’s BIGGEST Gun Show! Public Invited to Buy, Sell, or Trade\
 n\nFor more information visit https://iknifecollector.com/events/the-o
 riginal-fort-worth-gun-show-3
DTSTART;TZID=America/Chicago:20141025T000000
DTEND;TZID=America/Chicago:20141026T235900
CATEGORIES:fort, "worth’s", biggest, gun, show
LOCATION:Will Rogers Center Amon Carter Exhibit Hall
WEBSITE:http://www.premiergunshows.com
URL:http://www.premiergunshows.com
CONTACT:
ORGANIZER;CN="Jan Carter":https://iknifecollector.com/profile/JanCarte
 r
ATTACH;FMTTYPE="image/jpeg":
ATTENDEE;ROLE=REQ-PARTICIPANT;PARTSTAT=ACCEPTED;RSVP=TRUE;CN="Jan Cart
 er":https://iknifecollector.com/profile/JanCarter
END:VEVENT
END:VCALENDAR
